BEGIN:VCALENDAR
VERSION:2.0
PRODID:-//ChamberMaster//Event Calendar 2.0//EN
METHOD:PUBLISH
X-PUBLISHED-TTL:P3D
REFRESH-INTERVAL:P3D
CALSCALE:GREGORIAN
BEGIN:VEVENT
DTSTART:20160615T123000Z
DTEND:20160615T150000Z
X-MICROSOFT-CDO-ALLDAYEVENT:FALSE
SUMMARY:Disaster Recovery Seminar - Sponsored by General Insurance Services and Agility Recovery
DESCRIPTION:Join us for a Disaster Recovery Seminar presented by Charlie Keene of GIS and Mike Merz of Agility Recovery\n\n \n\nBlue Chip Casino   Stardust Event Room\n\n \n\nLearn how to assess your risk\, review critical functions\, create a plan and test the plan when it comes to disaster!\n\n \n\nRSVP by June 5th\, 2016 to Kaity Schultz\, kschultz@genins.com
X-ALT-DESC;FMTTYPE=text/html:Join us for a Disaster Recovery Seminar presented by Charlie Keene of GIS and Mike Merz of Agility Recovery<br />\n&nbsp\;<br />\nBlue Chip Casino &ndash\; Stardust Event Room<br />\n&nbsp\;<br />\nLearn how to assess your risk\, review critical functions\, create a plan and test the plan when it comes to disaster!<br />\n&nbsp\;<br />\nRSVP by June 5<sup>th</sup>\, 2016 to Kaity Schultz\, <a href="mailto:kschultz@genins.com">kschultz@genins.com</a>
LOCATION:Blue Chip Casino\, Stardust Event Center 777 Blue Chip Dr. Michigan City
UID:e.1949.2556
SEQUENCE:3
DTSTAMP:20260426T035022Z
URL:https://members.laportepartnership.com/events/details/disaster-recovery-seminar-sponsored-by-general-insurance-services-and-agility-recovery-06-15-2016-2556
END:VEVENT

END:VCALENDAR
