BEGIN:VCALENDAR
VERSION:2.0
PRODID:-//ChamberMaster//Event Calendar 2.0//EN
METHOD:PUBLISH
X-PUBLISHED-TTL:P3D
REFRESH-INTERVAL:P3D
CALSCALE:GREGORIAN
BEGIN:VEVENT
DTSTART:20190612T123000Z
DTEND:20190612T210000Z
X-MICROSOFT-CDO-ALLDAYEVENT:FALSE
SUMMARY:Disney Institute: Disney’s Approach to Leadership Excellence
DESCRIPTION:Disney Institute is bringing its renowned professional development course\, "Disney's Approach to Leadership Excellence\," to La Porte County.  \n\n \n\nThe one-day event will focus on identifying the values that drive an individual as a leader\, aligning personal and organizational values\, immersing in leadership vision\, and understanding the importance of  leadership legacy that inspires others. This day of Disney Institute training uses business insights and time-tested examples from Disney parks and resorts worldwide to inspire individuals and organizations to enhance their own customer experience using Disney principles as their guide.\n\n\n\nAlthough Disney Institute is presenting this program\, the sponsors of this program\, the La Porte Economic Advancement Partnership and the La Porte Educational Development Foundation and not Disney Institute\, are responsible for marketing and promoting this program\, and for providing and arranging for the venue\, facilities\, and other items for this program. This includes any food and beverage offered at or in connection with this program. The La Porte Economic Advancement Partnership and the La Porte Educational Development Foundation are not an agent of Disney Institute or its affiliates\, and Disney Institute and its affiliates assume no liability relating to the event for the acts or omissions of the La Porte Economic Advancement Partnership and the La Porte Educational Development Foundation.\n\n\n\nIf you have any special requests or dietary restrictions\, please contact the Chamber at lindsayj@laportepartnership.com or call 219.324.8584 by June 5.
X-ALT-DESC;FMTTYPE=text/html:<em><span style="font-family:century gothic\,sans-serif\;"><span style="font-size:11.0pt\;">Disney Institute</span></span></em><span style="font-family:century gothic\,sans-serif\;"><span style="font-size:11.0pt\;"> is bringing its renowned professional development course\, &ldquo\;Disney&rsquo\;s Approach to Leadership Excellence\,&rdquo\; to La Porte County.&nbsp\; </span></span><br />\n&nbsp\;<br />\n<span style="font-family:century gothic\,sans-serif\;"><span style="font-size:11.0pt\;">The one-day event will focus on identifying the values that drive an individual as a leader\, aligning personal and organizational values\, immersing in leadership vision\, and understanding the importance of&nbsp\; leadership legacy that inspires others. This day of <em>Disney Institute</em> training uses business insights and time-tested examples from Disney parks and resorts worldwide to inspire individuals and organizations to enhance their own customer experience using Disney principles as their guide.<br />\n<br />\nAlthough Disney Institute is presenting this program\, the sponsors of this program\, the La Porte Economic Advancement Partnership and the La Porte Educational Development Foundation and not Disney Institute\, are responsible for marketing and promoting this program\, and for providing and arranging for the venue\, facilities\, and other items for this program. This includes any food and beverage offered at or in connection with this program. The La Porte Economic Advancement Partnership and the La Porte Educational Development Foundation are not an agent of Disney Institute or its affiliates\, and Disney Institute and its affiliates assume no liability relating to the event for the acts or omissions of the La Porte Economic Advancement Partnership and the La Porte Educational Development Foundation.<br />\n<br />\nIf you have any special requests or dietary restrictions\, please contact the Chamber at lindsayj@laportepartnership.com or call 219.324.8584 by June 5.</span></span>
LOCATION:Purdue University Northwest in the Great Hall at Dworkin Student Services and Activities Complex 1401 S. U.S. Highway 421\, Westville\, IN 46391
UID:e.1949.4345
SEQUENCE:3
DTSTAMP:20260423T133401Z
URL:https://members.laportepartnership.com/events/details/disney-institute-disney-s-approach-to-leadership-excellence-4345
END:VEVENT

END:VCALENDAR
