BEGIN:VCALENDAR
VERSION:2.0
PRODID:-//ChamberMaster//Event Calendar 2.0//EN
METHOD:PUBLISH
X-PUBLISHED-TTL:P3D
REFRESH-INTERVAL:P3D
CALSCALE:GREGORIAN
BEGIN:VEVENT
DTSTART:20180605T123000Z
DTEND:20180605T210000Z
X-MICROSOFT-CDO-ALLDAYEVENT:FALSE
SUMMARY:Disney’s Approach to Business Excellence
DESCRIPTION:Disney Institute is bringing its renowned professional development course\, "Disney's Approach to Business Excellence\," to La Porte County.  \n\n \n\nThe one-day event will allow area professionals begin to understand the power of leadership values\, discover how customer loyalty can be established\, and gain insight into how organizational culture is strengthened. Participants can learn how systems and processes can make exceptional customer service achievable and explore how to integrate personal creativity and organizational processes to support continuous improvement within their organization. This day of Disney Institute training uses business insights and time-tested examples from Disney parks and resorts worldwide to inspire individuals and organizations to enhance their own customer experience using Disney principles as their guide.\n\n\n\nAlthough Disney Institute is presenting this program\, the sponsor of this program\, the Greater La Porte Chamber of Commerce and not Disney Institute\, is responsible for  marketing and promoting this program\, and for providing and arranging for the venue\, facilities\, and other items for this program. This includes any food and beverage offered at or in connection with this program. The Greater La Porte Chamber of Commerce is not an agent of Disney Institute or its affiliates\, and Disney Institute and its affiliates assume no liability relating to the event for the acts or omissions of the Greater La Porte Chamber of Commerce.\n\n\n\nIf you have any special requests or dietary restrictions\, please contact the Chamber at gesse@lpchamber.com or call 219.362.3178 by May 29.
X-ALT-DESC;FMTTYPE=text/html:<em><span style="font-family:century gothic\,sans-serif\;"><span style="font-size:11.0pt\;">Disney Institute</span></span></em><span style="font-family:century gothic\,sans-serif\;"><span style="font-size:11.0pt\;"> is bringing its renowned professional development course\, &ldquo\;Disney&rsquo\;s Approach to Business Excellence\,&rdquo\; to La Porte County.&nbsp\; </span></span><br />\n&nbsp\;<br />\n<span style="font-family:century gothic\,sans-serif\;"><span style="font-size:11.0pt\;">The one-day event will allow area professionals begin to understand the power of leadership values\, discover how customer loyalty can be established\, and gain insight into how organizational culture is strengthened. Participants can learn how systems and processes can make exceptional customer service achievable and explore how to integrate personal creativity and organizational processes to support continuous improvement within their organization. This day of <em>Disney Institute</em> training uses business insights and time-tested examples from Disney parks and resorts worldwide to inspire individuals and organizations to enhance their own customer experience using Disney principles as their guide.<br />\n<br />\nAlthough Disney Institute is presenting this program\, the sponsor of this program\, the Greater La Porte Chamber of Commerce and not Disney Institute\, is responsible for&nbsp\; marketing and promoting this program\, and for providing and arranging for the venue\, facilities\, and other items for this program. This includes any food and beverage offered at or in connection with this program. The Greater La Porte Chamber of Commerce is not an agent of Disney Institute or its affiliates\, and Disney Institute and its affiliates assume no liability relating to the event for the acts or omissions of the Greater La Porte Chamber of Commerce.<br />\n<br />\nIf you have any special requests or dietary restrictions\, please contact the Chamber at gesse@lpchamber.com or call 219.362.3178 by May 29.</span></span>
LOCATION:Purdue University Northwest in the Great Hall at Dworkin Student Services and Activities Complex 1401 S. U.S. Highway 421\, Westville\, IN 46391
UID:e.1949.4101
SEQUENCE:3
DTSTAMP:20260424T084650Z
URL:https://members.laportepartnership.com/events/details/disney-s-approach-to-business-excellence-4101
END:VEVENT

END:VCALENDAR
