BEGIN:VCALENDAR
VERSION:2.0
PRODID:-//ChamberMaster//Event Calendar 2.0//EN
METHOD:PUBLISH
X-PUBLISHED-TTL:P3D
REFRESH-INTERVAL:P3D
CALSCALE:GREGORIAN
BEGIN:VEVENT
DTSTART:20160628T130000Z
DTEND:20160628T170000Z
X-MICROSOFT-CDO-ALLDAYEVENT:FALSE
SUMMARY:Document Shredding Event- Solid Waste District of La Porte County
DESCRIPTION:Don't miss this document shredding event from 8 AM to noon (or until the truck fills up) on Tuesday\, June 28! It will be held outside of our office at 2857 W. State Road 2.\n\n\n\nTo make up for running out of space on the document shredding truck at our last 5-in-1 recycling event\, we're holding an additional FREE document shredding event for La Porte County residents! There are no limits to the amount of shredding you may bring\, but participation is limited to residents -- no businesses. \n\n\n\nPlease call our office at 326-0014 or contact our educator at aebaugh@solidwastedistrict.com for more information.
X-ALT-DESC;FMTTYPE=text/html:<span style="box-sizing: border-box\; font-size: 14px\; letter-spacing: 0.2px\; color: rgb(75\, 79\, 86)\; font-family: helvetica\, arial\, sans-serif\; line-height: 18.76px\;">Don&#39\;t miss this document shredding event from 8 AM to noon (or until the truck fills up) on Tuesday\, June 28! It will be held outside of our office at 2857 W. State Road 2.</span><br style="box-sizing: border-box\; font-size: 14px\; letter-spacing: 0.2px\; color: rgb(75\, 79\, 86)\; font-family: helvetica\, arial\, sans-serif\; line-height: 18.76px\;" />\n<br style="box-sizing: border-box\; font-size: 14px\; letter-spacing: 0.2px\; color: rgb(75\, 79\, 86)\; font-family: helvetica\, arial\, sans-serif\; line-height: 18.76px\;" />\n<span style="box-sizing: border-box\; font-size: 14px\; letter-spacing: 0.2px\; color: rgb(75\, 79\, 86)\; font-family: helvetica\, arial\, sans-serif\; line-height: 18.76px\;">To make up for running out of space on the document shredding truck at our last 5-in-1 recycling event\, we&#39\;re holding an additional FREE document shredding event for La Porte County residents! There are no limits to the amount of shredding you may bring\, but participation is limited to residents -- no businesses.&nbsp\;</span><br style="box-sizing: border-box\; font-size: 14px\; letter-spacing: 0.2px\; color: rgb(75\, 79\, 86)\; font-family: helvetica\, arial\, sans-serif\; line-height: 18.76px\;" />\n<br style="box-sizing: border-box\; font-size: 14px\; letter-spacing: 0.2px\; color: rgb(75\, 79\, 86)\; font-family: helvetica\, arial\, sans-serif\; line-height: 18.76px\;" />\n<span style="box-sizing: border-box\; font-size: 14px\; letter-spacing: 0.2px\; font-family: helvetica\, arial\, sans-serif\; color: rgb(75\, 79\, 86)\; line-height: 18.76px\;">Please call our office at 326-0014 or contact our educator at&nbsp\;<span style="box-sizing: border-box\; text-decoration: underline\;"><span style="box-sizing: border-box\;"><a href="mailto:aebaugh@solidwastedistrict.com&lt\;/span" style="box-sizing: border-box\; color: rgb(0\, 0\, 0)\; text-decoration: none\; transition: color 0.15s linear 0s\; outline: none !important\; padding: 0px\; background: transparent\;">aebaugh@solidwastedistrict.com</a></span></span><span style="box-sizing: border-box\; line-height: 18.76px\;">&nbsp\;for more information.</span></span>
LOCATION:Solid Waste District Office 2857 W. State Road 2 La Porte
UID:e.1949.2572
SEQUENCE:3
DTSTAMP:20260426T033916Z
URL:https://members.laportepartnership.com/events/details/document-shredding-event-solid-waste-district-of-la-porte-county-06-28-2016-2572
END:VEVENT

END:VCALENDAR
