BEGIN:VCALENDAR
VERSION:2.0
PRODID:-//ChamberMaster//Event Calendar 2.0//EN
METHOD:PUBLISH
X-PUBLISHED-TTL:P3D
REFRESH-INTERVAL:P3D
CALSCALE:GREGORIAN
BEGIN:VEVENT
DTSTART:20161001T210000Z
DTEND:20161002T000000Z
X-MICROSOFT-CDO-ALLDAYEVENT:FALSE
SUMMARY:Dog Days on State Street with KarahTess Clothing & Lettering
DESCRIPTION:Join KarahTess Clothing & Lettering for the Dog Days on State Street event on Saturday\, October 1 from 4:00 p.m.-7:00 p.m. The event is also sponsored by Pet Prairie and La Porte County Small Animal Shelter. Join for an exciting day of demonstrations\, exhibitions\, and animals galore! Gather the kids and pets and join for an evening filled with fun for the whole family! At this event\, there will be local veterinarians\, groomers\, rescue groups\, and the animal shelter. KarahTess Clothing & Lettering is located at 517 State Street in La Porte. You may call 219.324.2721 for more information or visit their Facebook page. All animals visiting this event are required to be up to date on vaccinations and must be on a leash.
X-ALT-DESC;FMTTYPE=text/html:<span _mce_style="font-size: 10pt\;" style="color: rgb(69\, 69\, 69)\; font-family: Arial\, Helvetica\, sans-serif\; line-height: normal\; font-size: 10pt\;">Join KarahTess Clothing &amp\; Lettering for the Dog Days on State Street event on Saturday\, October 1 from 4:00 p.m.-7:00 p.m. The event is also sponsored by Pet Prairie and La Porte County Small Animal Shelter. Join for an exciting day of demonstrations\, exhibitions\, and animals galore! Gather the kids and pets and join for an evening filled with fun for the whole family! At this event\, there will be local&nbsp\;</span><span _mce_style="font-size: 13.3333px\;" style="color: rgb(69\, 69\, 69)\; font-family: Arial\, Helvetica\, sans-serif\; line-height: normal\; font-size: 13.3333px\;">veterinarians</span><span _mce_style="font-size: 10pt\;" style="color: rgb(69\, 69\, 69)\; font-family: Arial\, Helvetica\, sans-serif\; line-height: normal\; font-size: 10pt\;">\, groomers\, rescue groups\, and the animal shelter. KarahTess Clothing &amp\; Lettering is located at 517 State Street in La Porte. You may call 219.324.2721 for more information or visit their Facebook page. All animals visiting this event are required to be up to date on vaccinations and must be on a leash.</span>
LOCATION:KarahTess Clothing & Lettering 517 State Street La Porte
UID:e.1949.2617
SEQUENCE:3
DTSTAMP:20260425T223757Z
URL:https://members.laportepartnership.com/events/details/dog-days-on-state-street-with-karahtess-clothing-lettering-2617
END:VEVENT

END:VCALENDAR
