BEGIN:VCALENDAR
VERSION:2.0
PRODID:-//ChamberMaster//Event Calendar 2.0//EN
METHOD:PUBLISH
X-PUBLISHED-TTL:P3D
REFRESH-INTERVAL:P3D
CALSCALE:GREGORIAN
BEGIN:VEVENT
DTSTART:20180622T140000Z
DTEND:20180622T163000Z
X-MICROSOFT-CDO-ALLDAYEVENT:FALSE
SUMMARY:DOT-mandated Reasonable Suspicion Training with Figment Group
DESCRIPTION:Join us on June 22nd\, 9:00a - 11:30a for Supervisor Training\, Reasonable Suspicion Training\; signs and symptoms based on the type of drug\, legally defensible documentation\, hidden in plain sight\, supervisor traps\, and 'carefrontation'.  If supervisors are responsible for making referrals for drug testing based on reasonable suspicion\, they must be trained on how to make that determination. We will also review DOT regulations via a Q&A session.  To enroll\, please contact Mary at mwellnitz@figmentgroupinc.com.
X-ALT-DESC;FMTTYPE=text/html:<span style="color:black\;"><span style="font-family:calibri\,sans-serif\;"><span style="font-size:11.0pt\;">Join us on June 22<sup>nd</sup>\, 9:00a - 11:30a for <em>Supervisor Training\, Reasonable Suspicion Training</em>\; signs and symptoms based on the type of drug\, legally defensible documentation\, hidden in plain sight\, supervisor traps\, and &lsquo\;carefrontation&rsquo\;.&nbsp\; </span></span></span><span style="font-family:calibri\,sans-serif\;"><span style="font-size:11.0pt\;">If supervisors are responsible for making referrals for drug testing based on reasonable suspicion\, they must be trained on how to make that determination. We will also review DOT regulations via a Q&amp\;A session.&nbsp\; </span></span><span style="color:black\;"><span style="font-family:calibri\,sans-serif\;"><span style="font-size:11.0pt\;">To enroll\, please contact Mary at </span></span></span><span style="font-family:calibri\,sans-serif\;"><span style="font-size:11.0pt\;"><a href="mailto:mwellnitz@figmentgroupinc.com">mwellnitz@figmentgroupinc.com</a></span></span><span style="color:black\;"><span style="font-family:calibri\,sans-serif\;"><span style="font-size:11.0pt\;">.</span></span></span>
LOCATION:
UID:e.1949.4187
SEQUENCE:3
DTSTAMP:20260424T084500Z
URL:https://members.laportepartnership.com/events/details/dot-mandated-reasonable-suspicion-training-with-figment-group-4187
END:VEVENT

END:VCALENDAR
