BEGIN:VCALENDAR
VERSION:2.0
PRODID:-//ChamberMaster//Event Calendar 2.0//EN
METHOD:PUBLISH
X-PUBLISHED-TTL:P3D
REFRESH-INTERVAL:P3D
CALSCALE:GREGORIAN
BEGIN:VEVENT
DTSTART:20170325T150000Z
DTEND:20170325T200000Z
X-MICROSOFT-CDO-ALLDAYEVENT:FALSE
SUMMARY:Down Syndrome Awareness Fundraiser
DESCRIPTION:Clark's Family Chiropractic is holding their 3rd Annual Down Syndrome Awareness Fundraiser with all proceeds donated to the Michiana Down Syndrome Assoc. Last year we raised over $2000.00 and would like to double that this year! We are looking for donations from local business of gift certificates\, products\, services or anything they would like to donate for us to use in our Raffle and Silent Auction. This event is OPEN TO THE PUBLIC and welcome everyone to take part in. We will have the Northern Darkness Garrison group (Star Wars Characters) and the NWI Ghostbusters along with their Ecto-1 car! Come take pictures with your favorite characters\, use foam darts to Blast-A-Trooper and bid on some big Really Great items.
X-ALT-DESC;FMTTYPE=text/html:Clark&#39\;s Family Chiropractic is holding their 3rd Annual Down Syndrome Awareness Fundraiser with all proceeds donated to the Michiana Down Syndrome Assoc. Last year we raised over $2000.00 and would like to double that this year! We are looking for donations from local business of gift certificates\, products\, services or anything they would like to donate for us to use in our Raffle and Silent Auction. This event is OPEN TO THE PUBLIC and welcome everyone to take part in. We will have the Northern Darkness Garrison group (Star Wars Characters) and the NWI Ghostbusters along with their Ecto-1 car! Come take pictures with your favorite characters\, use foam darts to Blast-A-Trooper and bid on some big Really Great items.
LOCATION:Clark's Family Chiropractic 6646 W. Johnson Rd La Porte\, In 46350
UID:e.1949.2704
SEQUENCE:3
DTSTAMP:20260425T114524Z
URL:https://members.laportepartnership.com/events/details/down-syndrome-awareness-fundraiser-2704
END:VEVENT

END:VCALENDAR
