BEGIN:VCALENDAR
VERSION:2.0
PRODID:-//ChamberMaster//Event Calendar 2.0//EN
METHOD:PUBLISH
X-PUBLISHED-TTL:P3D
REFRESH-INTERVAL:P3D
CALSCALE:GREGORIAN
BEGIN:VEVENT
DTSTART:20171021T180000Z
DTEND:20171021T200000Z
X-MICROSOFT-CDO-ALLDAYEVENT:FALSE
SUMMARY:Downtown La Porte Trick-or-Treat Spooktacular
DESCRIPTION:The Downtown La Porte Trick or Treat will take place from 1 till 3 pm on Saturday\, October 14th. Bring the kids downtown to fill their bags with candy from several downtown businesses. This event is put on by the Downtown La Porte Main Street Association and is not to be confused with the City-wide trick-or-treat that takes place later in the month of October.\n\nParticipating Businesses:\n\nA.J. Schmitt Jewelry - 721 Lincolnway\n\nAerial Yoga - 505 Lincolnway\n\nAs Time Goes By - 614 Lincolnway\n\nB & J's Lock Shop - 719 Monroe\n\nCarter's Barbershop - 711 Jefferson Ave\n\nCoachman Antique Mall - 500 Lincolnway\n\nCo-Op Shoppes - 512 State St\n\nDairy Queen   1409 Lincolnway\n\nDomino's Pizza - 325 J St\n\nEdgerton Travel -801 Indiana Ave\n\nEd Jones (Jennie Girton) - 601 State St\n\nFenker's Home Furnishings - 1114 Lincolnway\n\nFive Star Cuts - 715 Indiana Ave\n\nFor Life Tattoo Studio - 1402 Lincolnway\n\nHair Divas - 607 State St\n\nIfixUP Phone Repair - 809 Jefferson Ave\n\nJudee's - 1104 Indiana Ave\n\nLa Porte County Symphony - Plaza 618\n\nLemons & Co. - 522 Lincolnway\n\nMagic Sports - 724 Lincolnway\n\nMama T's - 607 Lincolnway\n\nMr. Mattress - 525 Lincolnway\n\nOwen's Motor Supply - 511 State St\n\nPackman's Family Pizzeria - 612 Lincolnway\n\nRocco's Classic Gallery - 519 Lincolnway\n\nRolling Acres Pet Treat Bakery - 605 Lincolnway\n\nRoxy Music - 1012 Lincolnway\n\nSalon Rogue - 820 Lincolnway\n\nThe Seventh Crow - 510 Lincolnway\n\nSuds on State - 600 Clay St\n\nT-Berry's Diner - 501 Lincolnway\n\nTemple News Agency - 816 Jefferson Ave\n\nTopp Skillet - 810 Lincolnway\n\nTrattoria Enzo - 601 Michigan Ave\n\nUp Towne Shoppes - 623 State St\n\nWE-PAY-MORE - 1002 Lincolnway\n\nWK Hair Studio - 717 Monroe\n\nYess Please Tanning- 116 E. Lincolnway\n\nYounique Boutique   800 Michigan Ave\n\nZelden's - 723 Lincolnway
X-ALT-DESC;FMTTYPE=text/html:<span style="color: rgb(75\, 79\, 86)\; font-family: Helvetica\, Arial\, sans-serif\; font-size: 14px\;">The Downtown La Porte Trick or Treat will take place from 1 till 3 pm on Saturday\, October 14th. Bring the kids downtown to fill their bags with candy from several downtown businesses. This event is put on by the Downtown La Porte Main Street Association and is not to be confused with the City-wide trick-or-treat that takes place later in the month of October.<br />\nParticipating Businesses:</span><br />\n<span style="color: rgb(29\, 33\, 41)\; font-family: Helvetica\, Arial\, sans-serif\; font-size: 14px\;">A.J. Schmitt Jewelry - 721 Lincolnway</span><br style="color: rgb(29\, 33\, 41)\; font-family: Helvetica\, Arial\, sans-serif\; font-size: 14px\;" />\n<span style="color: rgb(29\, 33\, 41)\; font-family: Helvetica\, Arial\, sans-serif\; font-size: 14px\;">Aerial Yoga - 505 Lincolnway</span><br style="color: rgb(29\, 33\, 41)\; font-family: Helvetica\, Arial\, sans-serif\; font-size: 14px\;" />\n<span style="color: rgb(29\, 33\, 41)\; font-family: Helvetica\, Arial\, sans-serif\; font-size: 14px\;">As Time Goes By - 614 Lincolnway</span><br style="color: rgb(29\, 33\, 41)\; font-family: Helvetica\, Arial\, sans-serif\; font-size: 14px\;" />\n<span style="color: rgb(29\, 33\, 41)\; font-family: Helvetica\, Arial\, sans-serif\; font-size: 14px\;">B &amp\; J&#39\;s Lock Shop - 719 Monroe</span><br />\n<span class="text_exposed_show" style="display: inline\; font-family: Helvetica\, Arial\, sans-serif\; color: rgb(29\, 33\, 41)\; font-size: 14px\;">Carter&#39\;s Barbershop - 711 Jefferson Ave<br />\nCoachman Antique Mall - 500 Lincolnway<br />\nCo-Op Shoppes - 512 State St<br />\nDairy Queen &ndash\; 1409 Lincolnway<br />\nDomino&#39\;s Pizza - 325 J St<br />\nEdgerton Travel -801 Indiana Ave<br />\nEd Jones (Jennie Girton) - 601 State St<br />\nFenker&#39\;s Home Furnishings - 1114 Lincolnway<br />\nFive Star Cuts - 715 Indiana Ave<br />\nFor Life Tattoo Studio - 1402 Lincolnway<br />\nHair Divas - 607 State St<br />\nIfixUP Phone Repair - 809 Jefferson Ave<br />\nJudee&#39\;s - 1104 Indiana Ave<br />\nLa Porte County Symphony - Plaza 618<br />\nLemons &amp\; Co. - 522 Lincolnway<br />\nMagic Sports - 724 Lincolnway<br />\nMama T&#39\;s - 607 Lincolnway<br />\nMr. Mattress - 525 Lincolnway<br />\nOwen&#39\;s Motor Supply - 511 State St<br />\nPackman&#39\;s Family Pizzeria - 612 Lincolnway<br />\nRocco&#39\;s Classic Gallery - 519 Lincolnway<br />\nRolling Acres Pet Treat Bakery - 605 Lincolnway<br />\nRoxy Music - 1012 Lincolnway<br />\nSalon Rogue - 820 Lincolnway<br />\nThe Seventh Crow - 510 Lincolnway<br />\nSuds on State - 600 Clay St<br />\nT-Berry&#39\;s Diner - 501 Lincolnway<br />\nTemple News Agency - 816 Jefferson Ave<br />\nTopp Skillet - 810 Lincolnway<br />\nTrattoria Enzo - 601 Michigan Ave<br />\nUp Towne Shoppes - 623 State St<br />\nWE-PAY-MORE - 1002 Lincolnway<br />\nWK Hair Studio - 717 Monroe<br />\nYess Please Tanning- 116 E. Lincolnway<br />\nYounique Boutique &ndash\; 800 Michigan Ave<br />\nZelden&#39\;s - 723 Lincolnway</span>
LOCATION:Downtown La Porte
UID:e.1949.2912
SEQUENCE:3
DTSTAMP:20260425T002657Z
URL:https://members.laportepartnership.com/events/details/downtown-la-porte-trick-or-treat-spooktacular-2912
END:VEVENT

END:VCALENDAR
