BEGIN:VCALENDAR
VERSION:2.0
PRODID:-//ChamberMaster//Event Calendar 2.0//EN
METHOD:PUBLISH
X-PUBLISHED-TTL:P3D
REFRESH-INTERVAL:P3D
CALSCALE:GREGORIAN
BEGIN:VEVENT
DTSTART:20191207T180000Z
DTEND:20191208T000000Z
X-MICROSOFT-CDO-ALLDAYEVENT:FALSE
SUMMARY:Downtown Santa Crawl 2019
DESCRIPTION:Dress festive and support our local establishments. First 500 to complete all the stops and visit Bare Bones between 4:30 p.m. and 6:00 p.m. get a special holiday souvenir!\n\n\n\nThere will also be a Facebook costume contest! Between noon and 1:00 p.m.\, meet us at Dick's Bar so we can take your picture for the contest. Person with the most likes by 6:00 p.m. will win a prize!\n\n\n\nPlease drink responsibility and always use a designated driver. costumes are encouraged but not required. Must be 21 years of age or older to participate.\n\n\n\nSponsored by Worthley Law (located at 610 Monroe)
X-ALT-DESC;FMTTYPE=text/html:<span style="color: rgb(29\, 33\, 41)\; font-family: Helvetica\, Arial\, sans-serif\; font-size: 14px\; white-space: pre-wrap\; background-color: rgb(255\, 255\, 255)\;">Dress festive and support our local establishments. First 500 to complete all the stops and visit Bare Bones between 4:30 p.m. and 6:00 p.m. get a special holiday souvenir!</span><br style="color: rgb(29\, 33\, 41)\; font-family: Helvetica\, Arial\, sans-serif\; font-size: 14px\; white-space: pre-wrap\; background-color: rgb(255\, 255\, 255)\;" />\n<br style="color: rgb(29\, 33\, 41)\; font-family: Helvetica\, Arial\, sans-serif\; font-size: 14px\; white-space: pre-wrap\; background-color: rgb(255\, 255\, 255)\;" />\n<span style="color: rgb(29\, 33\, 41)\; font-family: Helvetica\, Arial\, sans-serif\; font-size: 14px\; white-space: pre-wrap\; background-color: rgb(255\, 255\, 255)\;">There will also be a Facebook costume contest! Between noon and 1:00 p.m.\, meet us at Dick&#39\;s Bar so we can take your picture for the contest. Person with the most likes by 6:00 p.m. will win a prize!</span><br style="color: rgb(29\, 33\, 41)\; font-family: Helvetica\, Arial\, sans-serif\; font-size: 14px\; white-space: pre-wrap\; background-color: rgb(255\, 255\, 255)\;" />\n<br style="color: rgb(29\, 33\, 41)\; font-family: Helvetica\, Arial\, sans-serif\; font-size: 14px\; white-space: pre-wrap\; background-color: rgb(255\, 255\, 255)\;" />\n<span style="color: rgb(29\, 33\, 41)\; font-family: Helvetica\, Arial\, sans-serif\; font-size: 14px\; white-space: pre-wrap\; background-color: rgb(255\, 255\, 255)\;">Please drink responsibility and always use a designated driver. costumes are encouraged but not required. Must be 21 years of age or older to participate.</span><br style="color: rgb(29\, 33\, 41)\; font-family: Helvetica\, Arial\, sans-serif\; font-size: 14px\; white-space: pre-wrap\; background-color: rgb(255\, 255\, 255)\;" />\n<br style="color: rgb(29\, 33\, 41)\; font-family: Helvetica\, Arial\, sans-serif\; font-size: 14px\; white-space: pre-wrap\; background-color: rgb(255\, 255\, 255)\;" />\n<span style="color: rgb(29\, 33\, 41)\; font-family: Helvetica\, Arial\, sans-serif\; font-size: 14px\; white-space: pre-wrap\; background-color: rgb(255\, 255\, 255)\;">Sponsored by Worthley Law (located at 610 Monroe)</span>
LOCATION:Downtown La Porte
UID:e.1949.4555
SEQUENCE:3
DTSTAMP:20260423T024016Z
URL:https://members.laportepartnership.com/events/details/downtown-santa-crawl-2019-4555
END:VEVENT

END:VCALENDAR
