BEGIN:VCALENDAR
VERSION:2.0
PRODID:-//ChamberMaster//Event Calendar 2.0//EN
METHOD:PUBLISH
X-PUBLISHED-TTL:P3D
REFRESH-INTERVAL:P3D
CALSCALE:GREGORIAN
BEGIN:VEVENT
DTSTART:20180418T164500Z
DTEND:20180418T183000Z
X-MICROSOFT-CDO-ALLDAYEVENT:FALSE
SUMMARY:Drama\, Discipline and Documentation\, First Class- Strategic Management
DESCRIPTION:Strategic Management presents...\nDrama\, Discipline and Documentation\n\n \n\nTopics covered:\n\n\n	What is drama and why is it happening?\n	How to legally document behaviors\n	Strategies to re-frame complaints and negative opinions\n	When and how to move from coaching to discipline\n\n$500 Fee Includes:\n\n\n	Five 2-hour interactive training events (lunch included)\n	A notebook filled with worksheets and reference materials\n	Homework assignments targeted toward drama in your workplace\n	One 30-minute individual coaching session with Nora Akins\n\n  Program is ideal for: \n\n\n	People who have the authority to effectively deal with drama\n	Mid-managers and senior managers with basic conflict management knowledge\n	Human Resource professionals\n\n \n\nAll Five Events Held At\n\nPatrick's Grille\n\n4125 Franklin Street\, Michigan City\, IN 46360\n\n\n\nApril 18\, May 2\, 16\, 30 and June 13\n\n11:45 a.m. - 1:30 p.m.\n\nLimited Seating\n\n\n\nRegister Today!\n\nContact Strategic Management\n\n(219) 873-1735 or nora@managepeopleright.com
X-ALT-DESC;FMTTYPE=text/html:<h1 align="center" style="text-align:center\;"><span style="font-size:13.5pt\;">Strategic Management presents...</span></h1>\n<strong><span style="color:#202020\;"><span style="font-family:helvetica\,sans-serif\;"><span style="font-size:22.5pt\;">Drama\, Discipline and Documentation</span></span></span></strong><br />\n&nbsp\;<br />\n<strong><span style="color:#202020\;"><span style="font-family:helvetica\,sans-serif\;">Topics covered:</span></span></strong>\n\n<ul>\n	<li style="color:#202020\;line-height:150%\;-ms-text-size-adjust:100%\;-webkit-text-size-adjust:100%\;"><span style="font-family:helvetica\,sans-serif\;">What is drama and why is it happening?</span></li>\n	<li style="color:#202020\;line-height:150%\;-ms-text-size-adjust:100%\;-webkit-text-size-adjust:100%\;"><span style="font-family:helvetica\,sans-serif\;">How to legally document behaviors</span></li>\n	<li style="color:#202020\;line-height:150%\;-ms-text-size-adjust:100%\;-webkit-text-size-adjust:100%\;"><span style="font-family:helvetica\,sans-serif\;">Strategies to re-frame complaints and negative opinions</span></li>\n	<li style="color:#202020\;line-height:150%\;-ms-text-size-adjust:100%\;-webkit-text-size-adjust:100%\;"><span style="font-family:helvetica\,sans-serif\;">When and how to move from coaching to discipline</span></li>\n</ul>\n<strong><span style="color:#202020\;"><span style="font-family:helvetica\,sans-serif\;">$500 Fee Includes:</span></span></strong>\n\n<ul>\n	<li style="color:#202020\;line-height:150%\;-ms-text-size-adjust:100%\;-webkit-text-size-adjust:100%\;"><span style="font-family:helvetica\,sans-serif\;">Five 2-hour interactive training events (lunch included)</span></li>\n	<li style="color:#202020\;line-height:150%\;-ms-text-size-adjust:100%\;-webkit-text-size-adjust:100%\;"><span style="font-family:helvetica\,sans-serif\;">A notebook filled with worksheets and reference materials</span></li>\n	<li style="color:#202020\;line-height:150%\;-ms-text-size-adjust:100%\;-webkit-text-size-adjust:100%\;"><span style="font-family:helvetica\,sans-serif\;">Homework assignments targeted toward drama in your workplace</span></li>\n	<li style="color:#202020\;line-height:150%\;-ms-text-size-adjust:100%\;-webkit-text-size-adjust:100%\;"><span style="font-family:helvetica\,sans-serif\;">One 30-minute individual coaching session with Nora Akins</span></li>\n</ul>\n<span style="color:#202020\;"><span style="font-family:helvetica\,sans-serif\;">&nbsp\; <strong>Program is ideal for:</strong> </span></span>\n\n<ul>\n	<li style="color:#202020\;line-height:150%\;-ms-text-size-adjust:100%\;-webkit-text-size-adjust:100%\;"><span style="font-family:helvetica\,sans-serif\;">People who have the authority to effectively deal with drama</span></li>\n	<li style="color:#202020\;line-height:150%\;-ms-text-size-adjust:100%\;-webkit-text-size-adjust:100%\;"><span style="font-family:helvetica\,sans-serif\;">Mid-managers and senior managers with basic conflict management knowledge</span></li>\n	<li style="color:#202020\;line-height:150%\;-ms-text-size-adjust:100%\;-webkit-text-size-adjust:100%\;"><span style="font-family:helvetica\,sans-serif\;">Human Resource professionals</span></li>\n</ul>\n&nbsp\;<br />\n<strong><span style="color:#202020\;"><span style="font-family:helvetica\,sans-serif\;"><span style="font-size:12.0pt\;">All Five Events Held At</span></span></span></strong><br />\n<strong><span style="color:#202020\;"><span style="font-family:helvetica\,sans-serif\;"><span style="font-size:12.0pt\;"><strong>Patrick&rsquo\;s Grille</strong></span></span></span></strong><br />\n<span style="color:#202020\;"><span style="font-family:helvetica\,sans-serif\;"><span style="font-size:12.0pt\;">4125 Franklin Street\, Michigan City\, IN 46360<br />\n<br />\nApril 18\, May 2\, 16\, 30 and June 13<br />\n11:45 a.m. - 1:30 p.m.<br />\nLimited Seating<br />\n<br />\n<strong>Register Today!</strong><br />\n<strong>Contact Strategic Management</strong><br />\n<strong><strong>(219) 873-1735 or <a href="mailto:nora@managepeopleright.com"><span style="font-weight:normal\;"><span style="font-family:times new roman\,serif\;">nora@managepeopleright.com</span></span></a></strong></strong></span></span></span>
LOCATION:Patrick's Grille 4125 Franklin Street Michigan City
UID:e.1949.3084
SEQUENCE:3
DTSTAMP:20260424T115547Z
URL:https://members.laportepartnership.com/events/details/drama-discipline-and-documentation-first-class-strategic-management-3084
END:VEVENT

END:VCALENDAR
