BEGIN:VCALENDAR
VERSION:2.0
PRODID:-//ChamberMaster//Event Calendar 2.0//EN
METHOD:PUBLISH
X-PUBLISHED-TTL:P3D
REFRESH-INTERVAL:P3D
CALSCALE:GREGORIAN
BEGIN:VEVENT
DTSTART;VALUE=DATE:20180904
DTEND;VALUE=DATE:20180905
TRANSP:TRANSPARENT
X-MICROSOFT-CDO-ALLDAYEVENT:TRUE
SUMMARY:Drama\, Discipline and Documentation- Five Session Management Training First Class
DESCRIPTION:"Drama Discipline and Documentation" is a five-session management training series focused on addressing non-productive behaviors in the workplace. Participants will understand what drama is and why it's happening and learn how to reframe complaints and negative opinions to improve performance and camaraderie.\n\nTwo series will be offered this fall:\n\nThe Breakfast series will be held every Wednesday from 8:00 a.m.   9:45 a.m. at Patrick's Grille in Michigan City beginning September 5\, 2018.\n\nThe Lunch Series will be held every Tuesday from 11:30 a.m.   1:15 p.m. at The Blue Heron in LaPorte beginning September 4\, 2018.\n\nTuition is $500 per person for the series and includes individual coaching with Nora Akins\, breakfast or lunch and materials. Contact Nora T. Akins\, Strategic Management\, www.managepeopleright.com  for details and registration\; 219-873-1735 or nora@managepeopleright.com.
X-ALT-DESC;FMTTYPE=text/html:&ldquo\;Drama Discipline and Documentation&rdquo\; is a five-session management training series focused on addressing non-productive behaviors in the workplace. Participants will understand what drama is and why it&rsquo\;s happening and learn how to reframe complaints and negative opinions to improve performance and camaraderie.<br />\nTwo series will be offered this fall:<br />\nThe Breakfast series will be held every Wednesday from 8:00 a.m. &ndash\; 9:45 a.m. at Patrick&rsquo\;s Grille in Michigan City beginning September 5\, 2018.<br />\nThe Lunch Series will be held every Tuesday from 11:30 a.m. &ndash\; 1:15 p.m. at The Blue Heron in LaPorte beginning September 4\, 2018.<br />\nTuition is $500 per person for the series and includes individual coaching with Nora Akins\, breakfast or lunch and materials. Contact Nora T. Akins\, Strategic Management\, <a href="http://www.managepeopleright.com/">www.managepeopleright.com</a> &nbsp\;for details and registration\; 219-873-1735 or <a href="mailto:nora@managepeopleright.com">nora@managepeopleright.com</a>.
LOCATION:Michigan City Series: Patrick's Grille\, 4125 Franklin Street\, Michigan City La Porte Series: The Blue Heron\, 1110 Lakeside\, La Porte
UID:e.1949.4217
SEQUENCE:3
DTSTAMP:20260424T040636Z
URL:https://members.laportepartnership.com/events/details/drama-discipline-and-documentation-five-session-management-training-first-class-4217
END:VEVENT

END:VCALENDAR
