BEGIN:VCALENDAR
VERSION:2.0
PRODID:-//ChamberMaster//Event Calendar 2.0//EN
METHOD:PUBLISH
X-PUBLISHED-TTL:P3D
REFRESH-INTERVAL:P3D
CALSCALE:GREGORIAN
BEGIN:VEVENT
DTSTART:20180517T233000Z
DTEND:20180518T023000Z
X-MICROSOFT-CDO-ALLDAYEVENT:FALSE
SUMMARY:Dunebrook on Broadway
DESCRIPTION:Join in for Dunebrook on Broadway on Thursday\, May 17 from 6:30 p.m.-9:30 p.m. This event will feature dinner\, an auction\, and live musical entertainment. It will take place at the Uptown Center at 907 Franklin Street in Michigan City. A buffet dinner\, candy by Albanese\, a cash bar\, and a silent auction are all included. There will also be a presentation of the Lester Radke Award to Linda Hough. This event will help to make Every Child: Safe\, Healthy\, Happy. Sponsorships and individual seating are available now.
X-ALT-DESC;FMTTYPE=text/html:Join in for Dunebrook on Broadway on Thursday\, May 17 from 6:30 p.m.-9:30 p.m. This event will feature dinner\, an auction\, and live musical entertainment. It will take place at the Uptown Center at 907 Franklin Street in Michigan City. A buffet dinner\, candy by Albanese\, a cash bar\, and a silent auction are all included. There will also be a presentation of the Lester Radke&nbsp\;Award to Linda Hough. This event will help to make Every Child: Safe\, Healthy\, Happy. Sponsorships and individual seating are available now.
LOCATION:Uptown Center 907 Franklin Street Michigan City
UID:e.1949.4142
SEQUENCE:3
DTSTAMP:20260424T103138Z
URL:https://members.laportepartnership.com/events/details/dunebrook-on-broadway-4142
END:VEVENT

END:VCALENDAR
