BEGIN:VCALENDAR
VERSION:2.0
PRODID:-//ChamberMaster//Event Calendar 2.0//EN
METHOD:PUBLISH
X-PUBLISHED-TTL:P3D
REFRESH-INTERVAL:P3D
CALSCALE:GREGORIAN
BEGIN:VEVENT
DTSTART:20190516T230000Z
DTEND:20190517T023000Z
X-MICROSOFT-CDO-ALLDAYEVENT:FALSE
SUMMARY:Dunebrook's 30th Anniversary Gala Pinwheels & Pearls
DESCRIPTION:This celebration marks the milestone of Dunebrook's 30 year in serving children and families. The evening includes dinner\, cash bar\, live entertainment\, live auction and presentation of the Lester Radke Community Service Award to Tony Gillisse. Proceeds help support Dunebrook's parenting programs and Child Advocacy Center.
X-ALT-DESC;FMTTYPE=text/html:This celebration marks the milestone of Dunebrook&#39\;s 30 year in serving children and families. The evening includes dinner\, cash bar\, live entertainment\, live auction and presentation of the Lester Radke Community Service Award to Tony Gillisse. Proceeds help support Dunebrook&#39\;s parenting programs and Child Advocacy Center.
LOCATION:Uptown Center 907 Franklin St. Michigan City
UID:e.1949.4359
SEQUENCE:3
DTSTAMP:20260423T165930Z
URL:https://members.laportepartnership.com/events/details/dunebrook-s-30th-anniversary-gala-pinwheels-pearls-4359
END:VEVENT

END:VCALENDAR
