BEGIN:VCALENDAR
VERSION:2.0
PRODID:-//ChamberMaster//Event Calendar 2.0//EN
METHOD:PUBLISH
X-PUBLISHED-TTL:P3D
REFRESH-INTERVAL:P3D
CALSCALE:GREGORIAN
BEGIN:VEVENT
DTSTART;VALUE=DATE:20170909
DTEND;VALUE=DATE:20170910
TRANSP:TRANSPARENT
X-MICROSOFT-CDO-ALLDAYEVENT:TRUE
SUMMARY:Dunebrook's 4th Annual Dragon Boat Races
DESCRIPTION:Join this adrenaline-pumping event where synchronicity makes this a great teambuilding activity. Ornate vessels adorned with a dragon head and tail race across Stone Lake. A team consists of 16-20 paddlers and 1 drummer. We provide the boats\, safety vests\, team bandana\, paddles\, steersman and downloadable team photo. Each team participates in 3 heats. Children's activities and food vendors at the beach. Must be minimum 13 years to race. Proceeds support Dunebrook's parenting education and family strengthening programs.
X-ALT-DESC;FMTTYPE=text/html:Join this adrenaline-pumping event where synchronicity makes this a great teambuilding activity. Ornate vessels adorned with a dragon head and tail race across Stone Lake. A team consists of 16-20 paddlers and 1 drummer. We provide the boats\, safety vests\, team bandana\, paddles\, steersman and downloadable team photo. Each team participates in 3 heats. Children&#39\;s activities and food vendors at the beach. Must be minimum 13 years to race. Proceeds support Dunebrook&#39\;s parenting education and family strengthening programs.
LOCATION:Stone Lake\, La Porte
UID:e.1949.2851
SEQUENCE:3
DTSTAMP:20260425T021933Z
URL:https://members.laportepartnership.com/events/details/dunebrook-s-4th-annual-dragon-boat-races-2851
END:VEVENT

END:VCALENDAR
