BEGIN:VCALENDAR
VERSION:2.0
PRODID:-//ChamberMaster//Event Calendar 2.0//EN
METHOD:PUBLISH
X-PUBLISHED-TTL:P3D
REFRESH-INTERVAL:P3D
CALSCALE:GREGORIAN
BEGIN:VEVENT
DTSTART:20180908T140000Z
DTEND:20180908T200000Z
X-MICROSOFT-CDO-ALLDAYEVENT:FALSE
SUMMARY:Dunebrook's 5th Annual Dragon Boat Races
DESCRIPTION:The adrenaline-pumping action of Dragon Boat racing returns to Stone Lake with Dunebrook's 5th Annual Dragon Boat Races. This fun and friendly competition brings together area businesses\, faith groups and schools in 3 exciting heats. Dragon Boat racing is one of the fastest growing water sports in the world. Food vendors including Redamak's and free child-friendly activities will be available. Parking is free. Bring beach chairs and enjoy an hour or stay for the day to cheer on your favorite team.
X-ALT-DESC;FMTTYPE=text/html:The adrenaline-pumping action of Dragon Boat racing returns to Stone Lake with Dunebrook&#39\;s 5th Annual Dragon Boat Races. This fun and friendly competition brings together area businesses\, faith groups and schools in 3 exciting heats. Dragon Boat racing is one of the fastest growing water sports in the world. Food vendors including Redamak&#39\;s and free child-friendly activities will be available. Parking is free. Bring beach chairs and enjoy an hour or stay for the day to cheer on your favorite team.
LOCATION:Stone Lake
UID:e.1949.4224
SEQUENCE:3
DTSTAMP:20260424T041735Z
URL:https://members.laportepartnership.com/events/details/dunebrook-s-5th-annual-dragon-boat-races-4224
END:VEVENT

END:VCALENDAR
