BEGIN:VCALENDAR
VERSION:2.0
PRODID:-//ChamberMaster//Event Calendar 2.0//EN
METHOD:PUBLISH
X-PUBLISHED-TTL:P3D
REFRESH-INTERVAL:P3D
CALSCALE:GREGORIAN
BEGIN:VEVENT
DTSTART:20180829T190000Z
DTEND:20180829T200000Z
X-MICROSOFT-CDO-ALLDAYEVENT:FALSE
SUMMARY:Duneland Media Ribbon Cutting and Open House
DESCRIPTION:Join Duneland Media for a ribbon cutting on Wednesday\, Aug. 29. The ribbon cutting will take place at 2 p.m. at Duneland Media\, 1719 State Street\, Suite B in La Porte and will be administered by the Greater La Porte Chamber of Commerce.\n\n\n\nCome and celebrate this digital marketing agency in downtown La Porte! There is no cost to attend. Guests will also have the opportunity to attend the Open House from 2 p.m. to 3 p.m. the same day. Join us as they celebrate their new downtown La Porte location. Registration is encouraged and can be done by calling the Chamber at (219) 362-3178 or online at business.lpchamber.com/events.\n\n\n\nDuneland Media is a full service marketing agency with over 10 years of digital marketing experience. For more information about Duneland Media visit https://www.dunelandmedia.com/.
X-ALT-DESC;FMTTYPE=text/html:<span style="font-size:14px\;"><span style="font-family:arial\;"><span style="color:black\;">Join <strong><a href="https://www.dunelandmedia.com/">Duneland Media</a> </strong>for a ribbon cutting on Wednesday\, Aug. 29. The ribbon cutting will take place at 2 p.m. at Duneland Media\, 1719 State Street\, Suite B in La Porte and will be administered by the <strong><a href="https://www.lpchamber.com/">Greater La Porte Chamber of Commerce</a>.</strong><br />\n<br />\nCome and celebrate this digital marketing agency in downtown La Porte! There is no cost to attend. Guests will also have the opportunity to attend the Open House from 2 p.m. to 3 p.m. the same day. </span>Join us as they celebrate their new downtown La Porte location.<span style="color:black\;"> Registration is encouraged and can be done by calling the Chamber at (219) 362-3178 or online at business.lpchamber.com/events.</span><br />\n<br />\nDuneland Media is a full service marketing agency with over 10 years of digital marketing experience. For more information about Duneland Media visit <a href="https://www.dunelandmedia.com/">https://www.dunelandmedia.com/</a>.</span></span><br />\n&nbsp\;
LOCATION:1719 State Street\, Suite B La Porte\, IN 46350
UID:e.1949.4232
SEQUENCE:3
DTSTAMP:20260424T071836Z
URL:https://members.laportepartnership.com/events/details/duneland-media-ribbon-cutting-and-open-house-4232
END:VEVENT

END:VCALENDAR
