BEGIN:VCALENDAR
VERSION:2.0
PRODID:-//ChamberMaster//Event Calendar 2.0//EN
METHOD:PUBLISH
X-PUBLISHED-TTL:P3D
REFRESH-INTERVAL:P3D
CALSCALE:GREGORIAN
BEGIN:VEVENT
DTSTART:20180521T223000Z
DTEND:20180521T233000Z
X-MICROSOFT-CDO-ALLDAYEVENT:FALSE
SUMMARY:E-Cigarettes & Youth Community Conversation
DESCRIPTION:Join Healthy Communities of La Porte County and the LaPorte County Drug Free Partnership in a community conversation to discuss the overwhelming rate of JUUL and other E-Cigarette usage among our LaPorte County youth population. 3 million U.S. adolescents currently use E-Cigarettes. Panel speakers will also discuss how tobacco products\, especially E-Cigarettes\, are marketed in a way that is designed to appeal to youth.\n\nMay 21\, 2018 5:30-6:30 P.M.\n\nMichigan City Public Library Meeting Room
X-ALT-DESC;FMTTYPE=text/html:Join Healthy Communities of La Porte County and the LaPorte County Drug Free Partnership in a community conversation to discuss the overwhelming rate of JUUL and other E-Cigarette usage among our LaPorte County youth population. 3 million U.S. adolescents currently use E-Cigarettes. Panel speakers will also discuss how tobacco products\, especially E-Cigarettes\, are marketed in a way that is designed to appeal to youth.<br />\nMay 21\, 2018 5:30-6:30 P.M.<br />\nMichigan City Public Library Meeting Room
LOCATION:Michigan City Public Library Meeting Room 100 E. 4th Street Michigan City
UID:e.1949.4156
SEQUENCE:3
DTSTAMP:20260424T115359Z
URL:https://members.laportepartnership.com/events/details/e-cigarettes-youth-community-conversation-4156
END:VEVENT

END:VCALENDAR
