BEGIN:VCALENDAR
VERSION:2.0
PRODID:-//ChamberMaster//Event Calendar 2.0//EN
METHOD:PUBLISH
X-PUBLISHED-TTL:P3D
REFRESH-INTERVAL:P3D
CALSCALE:GREGORIAN
BEGIN:VEVENT
DTSTART:20170416T150000Z
DTEND:20170416T190000Z
X-MICROSOFT-CDO-ALLDAYEVENT:FALSE
SUMMARY:Easter Brunch
DESCRIPTION:Easter Brunch at Heston Hills\n\n\n\nFeaturing Award Winning Prime Rib\,\n\nBaked Ham\, Lemon Chicken\, Salmon\,\n\nOmelets Made To Order\, Belgian Waffles\, Scrambled Eggs\, Bacon and Sausage.\n\nSides\, Salads and Desserts\n\n\n\nReservations Required
X-ALT-DESC;FMTTYPE=text/html:Easter Brunch at Heston Hills<br />\n<br />\n<em>Featuring Award Winning Prime Rib\,<br />\nBaked Ham\, Lemon Chicken\, Salmon\,<br />\nOmelets Made To Order\, Belgian Waffles\, Scrambled Eggs\, Bacon and Sausage.<br />\nSides\, Salads and Desserts</em><br />\n<br />\n<strong>Reservations Required</strong>&nbsp\;&nbsp\;&nbsp\;&nbsp\;&nbsp\;&nbsp\;&nbsp\;&nbsp\;<br />\n&nbsp\;
LOCATION:Heston Hills Event Center 1933 E. 800 North LaPorte\, IN 46350
UID:e.1949.2707
SEQUENCE:3
DTSTAMP:20260425T114233Z
URL:https://members.laportepartnership.com/events/details/easter-brunch-2707
END:VEVENT

END:VCALENDAR
