BEGIN:VCALENDAR
VERSION:2.0
PRODID:-//ChamberMaster//Event Calendar 2.0//EN
METHOD:PUBLISH
X-PUBLISHED-TTL:P3D
REFRESH-INTERVAL:P3D
CALSCALE:GREGORIAN
BEGIN:VEVENT
DTSTART:20190421T160000Z
DTEND:20190421T160000Z
X-MICROSOFT-CDO-ALLDAYEVENT:FALSE
SUMMARY:Easter Egg-Stravaganza Egg Hunt
DESCRIPTION:Come celebrate Easter with an egg hunt and beautiful walk at the Gardens. Meet the Easter Bunny! FREE admission! Show up on time\, the eggs go very fast!
X-ALT-DESC;FMTTYPE=text/html:<span style="background-color:transparent\; color:rgb(0\, 0\, 0)\; font-family:times new roman\; font-size:12pt">Come celebrate Easter with an egg hunt and beautiful walk at the Gardens. Meet the Easter Bunny! FREE admission! Show up on time\, the eggs go very fast!</span>
LOCATION:Friendship Botanic Gardens 2055 East US Highway 12 Michigan City\, IN 46360
UID:e.1949.4316
SEQUENCE:3
DTSTAMP:20260423T165415Z
URL:https://members.laportepartnership.com/events/details/easter-egg-stravaganza-egg-hunt-4316
END:VEVENT

END:VCALENDAR
