BEGIN:VCALENDAR
VERSION:2.0
PRODID:-//ChamberMaster//Event Calendar 2.0//EN
METHOD:PUBLISH
X-PUBLISHED-TTL:P3D
REFRESH-INTERVAL:P3D
CALSCALE:GREGORIAN
BEGIN:VEVENT
DTSTART:20170921T210000Z
DTEND:20170922T010000Z
X-MICROSOFT-CDO-ALLDAYEVENT:FALSE
SUMMARY:Eat Bread to Raise Dough for The Social and Learning Institute
DESCRIPTION:EAT BREAD TO RAISE DOUGH\n\nPlease join The Social & Learning Institute on Thursday\, September 21 from 4:00 p.m.-8:00 p.m. at Panera Bread\, 5673 S. Franklin St. in Michigan City for a fundraiser. \n\n     ..  .\n\nPanera Bread  located in Michigan City will donate a percentage of its sales during this event to\n\nThe Social and Learning Institute when you show this flyer.\n\nNote: Cash\, Credit & Debit card accepted for purchases. Panera gift cards may not be used for purchase at this event.\n\nPanera Card  gift cards\, Panera  catering and other retail purchases are excluded from the event.\n\n     ..  .\n\nAt Panera\, we are committed to our community.\n\nWe believe that the universal spirit of bread is sharing \, and that's why we're committed to the communities\n\nthat we serve. Our passion for everything we do spills over to include everyone we share our days with\,\n\nand we appreciate the opportunity to give back to our friends\, our neighbors and our community.\n\npanerabread.com\n\n 2012 Panera Bread. All rights reserved.
X-ALT-DESC;FMTTYPE=text/html:EAT BREAD TO RAISE DOUGH<br />\nPlease join The Social &amp\; Learning Institute on Thursday\, September 21 from 4:00 p.m.-8:00 p.m. at Panera&nbsp\;Bread\, 5673 S. Franklin&nbsp\;St. in Michigan City for a fundraiser.&nbsp\;<br />\n&hellip\;&hellip\;&hellip\;&hellip\;&hellip\;..&hellip\;&hellip\;.<br />\nPanera Bread&reg\; located in Michigan City will donate a percentage of its sales during this event to<br />\nThe Social and Learning Institute when you show this flyer.<br />\nNote: Cash\, Credit &amp\; Debit card accepted for purchases. Panera gift cards may not be used for purchase at this event.<br />\nPanera Card&reg\; gift cards\, Panera&reg\; catering and other retail purchases are excluded from the event.<br />\n&hellip\;&hellip\;&hellip\;&hellip\;&hellip\;..&hellip\;&hellip\;.<br />\nAt Panera\, we are committed to our community.<br />\nWe believe that the universal spirit of bread is sharing&reg\;\, and that&rsquo\;s why we&rsquo\;re committed to the communities<br />\nthat we serve. Our passion for everything we do spills over to include everyone we share our days with\,<br />\nand we appreciate the opportunity to give back to our friends\, our neighbors and our community.<br />\npanerabread.com<br />\n&copy\;2012 Panera Bread. All rights reserved.
LOCATION:Panera Bread 5673 S. Franklin St. Michigan City
UID:e.1949.2882
SEQUENCE:3
DTSTAMP:20260425T003042Z
URL:https://members.laportepartnership.com/events/details/eat-bread-to-raise-dough-for-the-social-and-learning-institute-2882
END:VEVENT

END:VCALENDAR
