BEGIN:VCALENDAR
VERSION:2.0
PRODID:-//ChamberMaster//Event Calendar 2.0//EN
METHOD:PUBLISH
X-PUBLISHED-TTL:P3D
REFRESH-INTERVAL:P3D
CALSCALE:GREGORIAN
BEGIN:VEVENT
DTSTART:20240821T160000Z
DTEND:20240821T190000Z
X-MICROSOFT-CDO-ALLDAYEVENT:FALSE
SUMMARY:Edward Jones Rosario & Snider Grand Reopening Celebration
DESCRIPTION:Help us celebrate summer and long\, sunny days! We are happy to be a part of the La Porte community. Please mark your calendar for our upcoming celebration.\n\n\n\nHamburger/hot dog cookout will be served.
X-ALT-DESC;FMTTYPE=text/html:Help us celebrate summer and long\, sunny days! We are happy to be a part of the La Porte community. Please mark your calendar for our upcoming celebration.<br />\n<br />\nHamburger/hot dog cookout will be served.
LOCATION:Edward Jones: Rosario & Snider 286 W Johnson Road\, La Porte
UID:e.1949.5107
SEQUENCE:3
DTSTAMP:20260421T093118Z
URL:https://members.laportepartnership.com/events/details/edward-jones-rosario-snider-grand-reopening-celebration-5107
END:VEVENT

END:VCALENDAR
