BEGIN:VCALENDAR
VERSION:2.0
PRODID:-//ChamberMaster//Event Calendar 2.0//EN
METHOD:PUBLISH
X-PUBLISHED-TTL:P3D
REFRESH-INTERVAL:P3D
CALSCALE:GREGORIAN
BEGIN:VEVENT
DTSTART:20171207T220000Z
DTEND:20171207T223000Z
X-MICROSOFT-CDO-ALLDAYEVENT:FALSE
SUMMARY:Edward Jones- Sarah Brown Ribbon Cutting
DESCRIPTION:The Edward Jones office of Sarah Brown has recently relocated to 307 W. Johnson Road\, Suite B\, in La Porte. To celebrate the new location\, the office will hold a ribbon cutting administered by the Greater La Porte Chamber of Commerce on December 7 at 4:00 p.m. Light refreshments will also be available at this event.\n\n\n\nEdward Jones provides financial services for individual investors in the United States and\, through its affiliate\, in Canada. Every aspect of the firm's business\, from the types of investment options offered to the location of branch offices\, is designed to cater to individual investors in the communities in which they live and work. Edward Jones embraces the importance of building long-term\, face-to-face relationships with clients\, helping them to understand and make sense of the investment options available today. \n\n\n\nFor more information about Edward Jones- Sarah Brown\, call (219) 325-8828. For more information about the Greater La Porte Chamber of Commerce\, or to become a member\, visit www.lpchamber.com or call (219) 362-3178.
X-ALT-DESC;FMTTYPE=text/html:<span style="font-family:georgia\,serif\;"><span style="font-size:12.0pt\;">The Edward Jones office of Sarah Brown has recently relocated to 307 W. Johnson Road\, Suite B\, in La Porte. To celebrate the new location\, the office will hold a ribbon cutting administered by the Greater La Porte Chamber of Commerce on December 7 at 4:00 p.m. Light refreshments will also be available at this event.</span></span><br />\n<br />\n<span style="font-family:georgia\,serif\;"><span style="font-size:12.0pt\;">Edward Jones provides financial services for individual investors in the United States and\, through its affiliate\, in Canada. Every aspect of the firm&#39\;s business\, from the types of investment options offered to the location of branch offices\, is designed to cater to individual investors in the communities in which they live and work. Edward Jones embraces the importance of building long-term\, face-to-face relationships with clients\, helping them to understand and make sense of the investment options available today. </span></span><br />\n<br />\n<span style="font-family:georgia\,serif\;"><span style="font-size:12.0pt\;">For more information about Edward Jones- Sarah Brown\, call (219) 325-8828. For more information about the Greater La Porte Chamber of Commerce\, or to become a member\, visit www.lpchamber.com or call (219) 362-3178.</span></span>
LOCATION:The new Edward Jones Office of Sarah Brown 307 W. Johnson Road\, Suite B
UID:e.1949.2939
SEQUENCE:3
DTSTAMP:20260424T213307Z
URL:https://members.laportepartnership.com/events/details/edward-jones-sarah-brown-ribbon-cutting-2939
END:VEVENT

END:VCALENDAR
