BEGIN:VCALENDAR
VERSION:2.0
PRODID:-//ChamberMaster//Event Calendar 2.0//EN
METHOD:PUBLISH
X-PUBLISHED-TTL:P3D
REFRESH-INTERVAL:P3D
CALSCALE:GREGORIAN
BEGIN:VEVENT
DTSTART;VALUE=DATE:20191001
DTEND;VALUE=DATE:20191101
TRANSP:TRANSPARENT
X-MICROSOFT-CDO-ALLDAYEVENT:TRUE
SUMMARY:ENDANGERED HERITAGE
DESCRIPTION:The La Porte County Historical Society will present Endangered Heritage\, a collections care advocacy exhibit from the Indiana Historical Society\, providing information about the need for good collections management. It will give examples of the dangers to objects in collections and information about the collections care needs of Indiana's organizations. The exhibit focuses on the needs of heritage collecting organizations for humidity and temperature controls\, adequate storage\, and funds to care for their collections. Featured are solutions to the problems facing Indiana's heritage collections\, with suggestions on ways to help. Visitors to the exhibit will learn how they can assist in preserving Indiana's history.
X-ALT-DESC;FMTTYPE=text/html:The La Porte County Historical Society will present Endangered Heritage\, a collections care advocacy exhibit from the Indiana Historical Society\, providing information about the need for good collections management. It will give examples of the dangers to objects in collections and information about the collections care needs of Indiana&rsquo\;s organizations. The exhibit focuses on the needs of heritage collecting organizations for humidity and temperature controls\, adequate storage\, and funds to care for their collections. Featured are solutions to the problems facing Indiana&rsquo\;s heritage collections\, with suggestions on ways to help. Visitors to the exhibit will learn how they can assist in preserving Indiana&rsquo\;s history.
LOCATION:La Porte County Historical Society Museum
UID:e.1949.4369
SEQUENCE:3
DTSTAMP:20260423T062937Z
URL:https://members.laportepartnership.com/events/details/endangered-heritage-4369
END:VEVENT

END:VCALENDAR
