BEGIN:VCALENDAR
VERSION:2.0
PRODID:-//ChamberMaster//Event Calendar 2.0//EN
METHOD:PUBLISH
X-PUBLISHED-TTL:P3D
REFRESH-INTERVAL:P3D
CALSCALE:GREGORIAN
BEGIN:VEVENT
DTSTART:20190825T190000Z
DTEND:20190825T220000Z
X-MICROSOFT-CDO-ALLDAYEVENT:FALSE
SUMMARY:Equine Assisted Psychotherapy - Demo - What is Anam Cara?
DESCRIPTION:Horses healing the human soul? - What? What is Equine Assisted Psychotherapy & How is it different that other therapies? Come check out what Anam Cara is all about AND see our new permanent location! Come experience for yourself the transformative power of the presence of horses!! This event is FREE/Donation based!! We will be sharing the EAGALA model and what it and Anam Cara offers you and the community.\n\n\n\nDid you know that Anam Cara is the ONLY Eagala certified program in Northwest Indiana?\n\n\n\nYou can RSVP with at 219-207-7222 or by clicking below. This interactive presentation is best suited for ages 16 and older. Bring water\, a chair\, and come dressed for the weather and the pasture (close toed shoes) \;-)\n\n\n\nFor a preview of what he Eagala model is: https://youtu.be/Drm_vK5deFs
X-ALT-DESC;FMTTYPE=text/html:<span style="color:rgb(29\, 33\, 41)\; font-family:helvetica\,arial\,sans-serif\; font-size:14px">Horses healing the human soul? - What? What is Equine Assisted Psychotherapy &amp\; How is it different that other therapies? Come check out what Anam Cara is all about AND see our new permanent location! Come experience for yourself the transformative power of the presence of horses!! This event is FREE/Donation based!! We will be sharing the EAGALA model and what it and Anam Cara offers you and the community.<br />\n<br />\nDid you know that Anam Cara is the ONLY Eagala certified program in Northwest Indiana?<br />\n<br />\nYou can RSVP with at 219-207-7222 or by clicking below. This interactive presentation is best suited for ages 16 and older. Bring water\, a chair\, and come dressed for the weather and the pasture (close toed shoes) \;-)</span><br />\n<br />\n<span style="color:rgb(29\, 33\, 41)\; font-family:helvetica\,arial\,sans-serif\; font-size:14px">For a preview of what he Eagala model is: </span><a href="https://youtu.be/Drm_vK5deFs?fbclid=IwAR2lNpaJaQ43T38MFJBXo1z38nxw3WDCpS04CzKq3NvhYtqUIeOMwnHRBtY" rel="nofollow noopener" style="color: rgb(56\, 88\, 152)\; cursor: pointer\; text-decoration-line: none\; font-family: Helvetica\, Arial\, sans-serif\; font-size: 14px\; white-space: pre-wrap\;" target="_blank">https://youtu.be/Drm_vK5deFs</a>
LOCATION:Anam Cara 4298 E 1000 North LaPorte IN 46350
UID:e.1949.4517
SEQUENCE:3
DTSTAMP:20260423T115101Z
URL:https://members.laportepartnership.com/events/details/equine-assisted-psychotherapy-demo-what-is-anam-cara-4517
END:VEVENT

END:VCALENDAR
