BEGIN:VCALENDAR
VERSION:2.0
PRODID:-//ChamberMaster//Event Calendar 2.0//EN
METHOD:PUBLISH
X-PUBLISHED-TTL:P3D
REFRESH-INTERVAL:P3D
CALSCALE:GREGORIAN
BEGIN:VEVENT
DTSTART:20160722T230000Z
DTEND:20160723T000000Z
X-MICROSOFT-CDO-ALLDAYEVENT:FALSE
SUMMARY:Faceless Epidemic Gallery Event
DESCRIPTION:Faceless Epidemic is a community awareness portrait series that brings together local artists and families who have lost loved ones to heroin overdose. To showcase the project's mission\, Frontline Foundations will host a gallery event at Frontline-LaPorte on Friday\, July 22nd\, at 6pm. \n\n\n\nPlease join us in a night of remembrance\,\n\nas Faceless Epidemic honors these lives lost too soon.
X-ALT-DESC;FMTTYPE=text/html:<br />\n<span style="color:#202020\;"><span style="font-family:helvetica\,sans-serif\;"><span style="font-size:14.5pt\;"><a href="http://frontlinefoundations.us4.list-manage.com/track/click?u=b40b4ecbd6dd60d499cb887e7&amp\;id=2b1564f640&amp\;e=eac01235fb" target="_blank"><span style="color:#2BAADF\;">Faceless Epidemic</span></a> is a community awareness portrait series that brings together local artists and families who have lost loved ones to heroin overdose. To showcase the project&#39\;s mission\,&nbsp\;Frontline Foundations will host a gallery event at Frontline-LaPorte on Friday\, July 22nd\, at 6pm.&nbsp\;<br />\n<br />\n<em>Please join us in a night of remembrance\,</em><br />\n<em><em>as Faceless Epidemic honors these lives lost too soon.</em></em></span></span></span>
LOCATION:Frontline- La Porte 605 Michigan Avenue
UID:e.1949.2598
SEQUENCE:3
DTSTAMP:20260426T021353Z
URL:https://members.laportepartnership.com/events/details/faceless-epidemic-gallery-event-07-22-2016-2598
END:VEVENT

END:VCALENDAR
