BEGIN:VCALENDAR
VERSION:2.0
PRODID:-//ChamberMaster//Event Calendar 2.0//EN
METHOD:PUBLISH
X-PUBLISHED-TTL:P3D
REFRESH-INTERVAL:P3D
CALSCALE:GREGORIAN
BEGIN:VEVENT
DTSTART:20171014T130000Z
DTEND:20171014T203000Z
X-MICROSOFT-CDO-ALLDAYEVENT:FALSE
SUMMARY:Shirley Heinze Land Trust Fall Bus Tour
DESCRIPTION:Join us for an educational bus tour of several of our nature preserves. Staff\, board members and guest speakers will provide insights on land conservation and the ecology\, geology\, and history of Northwest Indiana. The bus is restroom equipped. Reservations are required and may be made by calling?. Seating is limited\, so early reservations are advised.
X-ALT-DESC;FMTTYPE=text/html:Join us for an educational bus tour of several of our nature preserves. Staff\, board members and guest speakers will provide insights on land conservation and the ecology\, geology\, and history of Northwest Indiana. The bus is restroom equipped.<em> </em>Reservations are required and may be made by calling?. <em>Seating is limited\, so early reservations are advised</em>.
LOCATION:Meadowbrook Nature Preserve which is located at 109 W. 700 North\, Valparaiso\, IN.
UID:e.1949.2811
SEQUENCE:3
DTSTAMP:20260424T225227Z
URL:https://members.laportepartnership.com/events/details/fall-bus-tour-2811
END:VEVENT

END:VCALENDAR
