BEGIN:VCALENDAR
VERSION:2.0
PRODID:-//ChamberMaster//Event Calendar 2.0//EN
METHOD:PUBLISH
X-PUBLISHED-TTL:P3D
REFRESH-INTERVAL:P3D
CALSCALE:GREGORIAN
BEGIN:VEVENT
DTSTART:20170923T140000Z
DTEND:20170923T190000Z
X-MICROSOFT-CDO-ALLDAYEVENT:FALSE
SUMMARY:Fall Clean Up Day at Rein's of Life's Michigan City Location
DESCRIPTION:REINS OF LIFE FALL CLEAN UP DAY HAS ARRIVED!\n\n \n\nIt's that time of year again and you can help!\n\n \n\nReins of Life\, Inc. Fall Clean Up Day registration begins at 8:30AM. Projects will begin at 9:00AM.\n\nReins will provide refreshments and lunch. Lunch will take place from 12:00PM-12:30PM.\n\n \n\nThings to Brings:\n\n-Family & Friends (children must be accompanied by an adult)\n\n-Outdoor Tools i.e.: rakes\, manure forks\, shovels\, wheel barrows\, pruning/cutting tools\, hammers\, and gardening tools\n\n-Indoor Supplies i.e.: dusters\, sponges\, cleaning products (furniture\, windows & bathrooms)\n\n-Trucks & Trailers (we can fill your beds with fertilizer for your garden)\n\n \n\nFor questions you can give us a call at 574.232.0853 or email staff@reinsoflife.org.
X-ALT-DESC;FMTTYPE=text/html:REINS OF LIFE FALL CLEAN UP DAY HAS ARRIVED!<br />\n&nbsp\;<br />\nIt&rsquo\;s that time of year again and you can help!<br />\n&nbsp\;<br />\nReins of Life\, Inc. Fall Clean Up Day registration begins at 8:30AM. Projects will begin at 9:00AM.<br />\nReins will provide refreshments and lunch. Lunch will take place from 12:00PM-12:30PM.<br />\n&nbsp\;<br />\nThings to Brings:<br />\n-Family &amp\; Friends (children must be accompanied by an adult)<br />\n-Outdoor Tools i.e.: rakes\, manure forks\, shovels\, wheel barrows\, pruning/cutting tools\, hammers\, and gardening tools<br />\n-Indoor Supplies i.e.: dusters\, sponges\, cleaning products (furniture\, windows &amp\; bathrooms)<br />\n-Trucks &amp\; Trailers (we can fill your beds with fertilizer for your garden)<br />\n&nbsp\;<br />\nFor questions you can give us a call at 574.232.0853 or email <a href="mailto:staff@reinsoflife.org">staff@reinsoflife.org</a>.
LOCATION:Reins of Life- Michigan City location 9375 W. 300 N. Michigan City
UID:e.1949.2875
SEQUENCE:3
DTSTAMP:20260425T003327Z
URL:https://members.laportepartnership.com/events/details/fall-clean-up-day-at-rein-s-of-life-s-michigan-city-location-2875
END:VEVENT

END:VCALENDAR
