BEGIN:VCALENDAR
VERSION:2.0
PRODID:-//ChamberMaster//Event Calendar 2.0//EN
METHOD:PUBLISH
X-PUBLISHED-TTL:P3D
REFRESH-INTERVAL:P3D
CALSCALE:GREGORIAN
BEGIN:VEVENT
DTSTART:20161025T123000Z
DTEND:20161025T140000Z
X-MICROSOFT-CDO-ALLDAYEVENT:FALSE
SUMMARY:Fall Economic Briefing 2016
DESCRIPTION:Hosted by the Greater La Porte and Michigan City Area Chambers of Commerce\n\nTuesday\, October 25\, 7:30 AM - Purdue University Northwest-Westville-Dworkin Center-1155\n\n \n\n \n\nWelcome: Dr. Thomas L. Keon\, Chancellor\, Purdue University Northwest\n\n\n\nOpening Comments: Dr. Jane Mutchler\, Dean\, College of Business\, Purdue University Northwest\n\n \n\n \n\nGuest Speaker   Gene Matzat   Purdue Extension: Agriculture trends in La Porte County and Northwest Indiana\n\n \n\n \n\nEconomic Outlook   Anthony Sindone\, Clinical Assistant Professor of Finance and Economic Development-Director\, Center for Economic Development and Research (CEDaR)\n\n \n\n	Economic Indicator Dashboard for La Porte County and The Region\n	Gross Output\n	Income Trends\n	Top Industry Clusters by output and income\n	Labor Force Trends: Skills gap continues\n	Initiatives to assist in shrinking the gap\n\n \n\n \n\n \n\nQuestions and Answers   Open Discussion
X-ALT-DESC;FMTTYPE=text/html:<span style="font-family:times new roman\,serif\;"><span style="font-size:12.0pt\;">Hosted by the Greater La Porte and Michigan City Area Chambers of Commerce</span></span><br />\n<span style="font-family:times new roman\,serif\;"><span style="font-size:12.0pt\;">Tuesday\, October 25\, 7:30 AM - Purdue University Northwest-Westville-Dworkin Center-1155</span></span><br />\n&nbsp\;<br />\n&nbsp\;<br />\n<u><span style="font-family:times new roman\,serif\;"><span style="font-size:12.0pt\;">Welcome: Dr. Thomas L. Keon\, Chancellor\, Purdue University Northwest<br />\n<br />\nOpening Comments: Dr. Jane Mutchler\, Dean\, College of Business\, Purdue University Northwest</span></span></u><br />\n&nbsp\;<br />\n&nbsp\;<br />\n<u><span style="font-family:times new roman\,serif\;"><span style="font-size:12.0pt\;">Guest Speaker &ndash\; Gene Matzat &ndash\; Purdue Extension: Agriculture trends in La Porte County and Northwest Indiana</span></span></u><br />\n&nbsp\;<br />\n&nbsp\;<br />\n<u><span style="font-family:times new roman\,serif\;"><span style="font-size:12.0pt\;">Economic Outlook &ndash\; Anthony Sindone\, Clinical Assistant Professor of Finance and Economic Development-Director\, Center for Economic Development and Research (CEDaR)</span></span></u><br />\n&nbsp\;\n<ul>\n	<li style="margin-bottom:0in\;margin-bottom:.0001pt\;"><span style="font-family:times new roman\,serif\;"><span style="font-size:12.0pt\;">Economic Indicator Dashboard for La Porte County and The Region</span></span></li>\n	<li style="margin-bottom:0in\;margin-bottom:.0001pt\;"><span style="font-family:times new roman\,serif\;"><span style="font-size:12.0pt\;">Gross Output</span></span></li>\n	<li style="margin-bottom:0in\;margin-bottom:.0001pt\;"><span style="font-family:times new roman\,serif\;"><span style="font-size:12.0pt\;">Income Trends</span></span></li>\n	<li style="margin-bottom:0in\;margin-bottom:.0001pt\;"><span style="font-family:times new roman\,serif\;"><span style="font-size:12.0pt\;">Top Industry Clusters by output and income</span></span></li>\n	<li style="margin-bottom:0in\;margin-bottom:.0001pt\;"><span style="font-family:times new roman\,serif\;"><span style="font-size:12.0pt\;">Labor Force Trends: Skills gap continues</span></span></li>\n	<li style="margin-bottom:0in\;margin-bottom:.0001pt\;"><span style="font-family:times new roman\,serif\;"><span style="font-size:12.0pt\;">Initiatives to assist in shrinking the gap</span></span></li>\n</ul>\n&nbsp\;<br />\n&nbsp\;<br />\n&nbsp\;<br />\n<u><span style="font-family:times new roman\,serif\;"><span style="font-size:12.0pt\;">Questions and Answers &ndash\; Open Discussion</span></span></u>
LOCATION:Dworkin Center\, Room 1155 Purdue Northwest- North Central Campus 1401 S. U.S. 421 Westville
UID:e.1949.2620
SEQUENCE:3
DTSTAMP:20260425T203942Z
URL:https://members.laportepartnership.com/events/details/fall-economic-briefing-2016-2620
END:VEVENT

END:VCALENDAR
