BEGIN:VCALENDAR
VERSION:2.0
PRODID:-//ChamberMaster//Event Calendar 2.0//EN
METHOD:PUBLISH
X-PUBLISHED-TTL:P3D
REFRESH-INTERVAL:P3D
CALSCALE:GREGORIAN
BEGIN:VEVENT
DTSTART:20161116T170000Z
DTEND:20161116T200000Z
X-MICROSOFT-CDO-ALLDAYEVENT:FALSE
SUMMARY:Fall Festival & Open House at Oak Woods Manor
DESCRIPTION:JOIN US AT OAK WOODS MANOR\n\nFall Festival &\n\nOpen House\n\nWITH MATTHEW THE PIANIST\n\nINDEPENDENT LIVING   ACCESS TO ASSISTED SERVICES   RESPITE/SHORT-TERM STAYS\n\n 2016 Five Star Senior Living\n\n1211 Longwood Drive   La Porte\, IN 46350\n\n219-362-6600\n\nwww.OakWoodsManor.com\n\nWEDNESDAY\, NOVEMBER 16TH\n\n11:00 AM   2:00 PM\n\nLunch Served at 11:30 am\n\nEntertainment at 1:00 pm\n\nOAK WOODS MANOR\n\n1211 Longwood Drive   La Porte\n\nJoin us at Oak Woods Manor for an autumn celebration.\n\nSavor the flavors of fall with a delicious Five Star lunch\n\nand enjoy the soothing sounds of Matthew the Pianist.\n\nTour our beautiful community and see how we make\n\nevery day exceptional.\n\nON THE MENU\n\n  Cranberry Salad\n\n  Butternut Squash Soup\n\n  Apple Stuffing\n\n  Sweet Potato Casserole\n\n  Peas and Onions\n\n  Sliced Turkey Breast and Fresh Ham\n\n  Pumpkin Cheesecake\n\nRSVP to 219-362-6600
X-ALT-DESC;FMTTYPE=text/html:JOIN US AT OAK WOODS MANOR<br />\nFall Festival &amp\;<br />\nOpen House<br />\nWITH MATTHEW THE PIANIST<br />\nINDEPENDENT LIVING &bull\; ACCESS TO ASSISTED SERVICES &bull\; RESPITE/SHORT-TERM STAYS<br />\n&copy\;2016 Five Star Senior Living<br />\n1211 Longwood Drive &bull\; La Porte\, IN 46350<br />\n219-362-6600<br />\nwww.OakWoodsManor.com<br />\nWEDNESDAY\, NOVEMBER 16TH<br />\n11:00 AM &ndash\; 2:00 PM<br />\nLunch Served at 11:30 am<br />\nEntertainment at 1:00 pm<br />\nOAK WOODS MANOR<br />\n1211 Longwood Drive &bull\; La Porte<br />\nJoin us at Oak Woods Manor for an autumn celebration.<br />\nSavor the flavors of fall with a delicious Five Star lunch<br />\nand enjoy the soothing sounds of Matthew the Pianist.<br />\nTour our beautiful community and see how we make<br />\nevery day exceptional.<br />\nON THE MENU<br />\n&bull\; Cranberry Salad<br />\n&bull\; Butternut Squash Soup<br />\n&bull\; Apple Stuffing<br />\n&bull\; Sweet Potato Casserole<br />\n&bull\; Peas and Onions<br />\n&bull\; Sliced Turkey Breast and Fresh Ham<br />\n&bull\; Pumpkin Cheesecake<br />\nRSVP to 219-362-6600
LOCATION:Oak Woods Manor 1211 Longwood Drive La Porte
UID:e.1949.2675
SEQUENCE:3
DTSTAMP:20260425T190217Z
URL:https://members.laportepartnership.com/events/details/fall-festival-open-house-at-oak-woods-manor-2675
END:VEVENT

END:VCALENDAR
