BEGIN:VCALENDAR
VERSION:2.0
PRODID:-//ChamberMaster//Event Calendar 2.0//EN
METHOD:PUBLISH
X-PUBLISHED-TTL:P3D
REFRESH-INTERVAL:P3D
CALSCALE:GREGORIAN
BEGIN:VEVENT
DTSTART:20181020T230000Z
DTEND:20181021T030000Z
X-MICROSOFT-CDO-ALLDAYEVENT:FALSE
SUMMARY:Family Advocates' Oktoberfest
DESCRIPTION:Oktoberfest theme will feature local beer tasting\, live and silent auctions with great prizes\, Austrian food by Mosers\, plus a live music. Come out and support this great organization that does so much to help children in our community. Tickets are $35 and include 10 tasting tickets. Additional tasting tickets available for sale at event. Come and enjoy a fun evening!
X-ALT-DESC;FMTTYPE=text/html:Oktoberfest theme will feature local beer tasting\, live and silent auctions with great prizes\, Austrian food by Mosers\, plus a live music. Come out and support this great organization that does so much to help children in our community. Tickets are $35 and include 10 tasting tickets. Additional tasting tickets available for sale at event. Come and enjoy a fun evening!
LOCATION:LaPorte Civic Auditorium 1001 Ridge St. La Porte\, IN 46350
UID:e.1949.4239
SEQUENCE:3
DTSTAMP:20260424T024419Z
URL:https://members.laportepartnership.com/events/details/family-advocates-oktoberfest-4239
END:VEVENT

END:VCALENDAR
