BEGIN:VCALENDAR
VERSION:2.0
PRODID:-//ChamberMaster//Event Calendar 2.0//EN
METHOD:PUBLISH
X-PUBLISHED-TTL:P3D
REFRESH-INTERVAL:P3D
CALSCALE:GREGORIAN
BEGIN:VEVENT
DTSTART:20171021T180000Z
DTEND:20171021T200000Z
X-MICROSOFT-CDO-ALLDAYEVENT:FALSE
SUMMARY:Family History Program at La Porte County Museum
DESCRIPTION:October is Family History Month.  We can see through maps how our ancestors saw the world expansion and delusions of both nations and individuals.  A MAP for all OCCASIONS will be presented by Fern Eddy Schultz\, La Porte County (IN) Historian\, Saturday\, October 21\, 2017 at 1:00 p.m. at the La Porte County Historical Society Museum\, 2405 Indiana Avenue (US#35 south entrance to La Porte).  Maps are an important tool for genealogists/family historians. There will be a display of various maps that the family historian might find valuable for information about their ancestors.  This program will focus on types of maps available for researching La Porte County ancestors but many of these may be applied to researching elsewhere.  Through maps we can learn the relationship of our ancestors to the place where they lived. \n\n    Regular museum admission fees apply for this program.  The facility is handicapped accessible.  Please visitwww.laportecountyhistory.org for more information about the La Porte County Historical Society and its Museum.
X-ALT-DESC;FMTTYPE=text/html:<p class="Normal" style="margin-top: 0pt\; margin-bottom: 0pt\; line-height: 14pt\; font-family: 'Times New Roman'\, Arial\; font-size: medium\; color: rgb(0\, 0\, 0)\;">&nbsp\;<span class="Normal__Char" style="font-size: 14pt\;">October is Family History Month.&nbsp\; We can see through maps how our ancestors saw the world&mdash\;expansion and delusions of both nations and individuals.&nbsp\;&nbsp\;<span class="Normal__Char" style="font-size: 14pt\; font-weight: bold\; font-style: italic\;">A MAP for all OCCASIONS&nbsp\;</span>will be presented by Fern Eddy Schultz\, La Porte County (IN) Historian\, Saturday\, October 21\, 2017 at 1:00 p.m. at the La Porte County Historical Society Museum\, 2405 Indiana Avenue (US#35 south entrance to La Porte).&nbsp\; Maps are an important tool for genealogists/family historians. There will be a display of various maps that the family historian might find valuable for information about their ancestors.&nbsp\; This program will focus on types of maps available for researching La Porte County ancestors but many of these may be applied to researching elsewhere.&nbsp\; Through maps we can learn the relationship of our ancestors to the place where they lived.&nbsp\;</span></p>\n\n<p class="Normal" style="margin-top: 0pt\; margin-bottom: 0pt\; line-height: 14pt\; font-family: 'Times New Roman'\, Arial\; font-size: medium\; color: rgb(0\, 0\, 0)\;"><span class="Normal__Char" style="font-size: 14pt\;">&nbsp\;&nbsp\;&nbsp\;&nbsp\;Regular museum admission fees apply for this program.&nbsp\; The facility is handicapped accessible.&nbsp\; Please visit</span><a href="https://webmail04.domainlocalhost.com/owa/redir.aspx?C=epngQCx5jV1xIs_PzGIP2zwRD2bAc9N24LC1N3LwJkeKWhGZohTVCA..&amp\;URL=http%3a%2f%2fwww.laportecountyhistory.org" target="_blank"><span class="Hyperlink__Char" style="color: rgb(0\, 0\, 255)\;"><span class="Hyperlink__Char" style="color: rgb(0\, 0\, 0)\; font-size: 14pt\;">www.laportecountyhistory.org</span></span></a><span class="Normal__Char" style="font-size: 14pt\;">&nbsp\;for more information about the La Porte County Historical Society and its Museum.</span></p>\n
LOCATION:La Porte County Historical Society Museum 2405 Indiana Avenue
UID:e.1949.2917
SEQUENCE:3
DTSTAMP:20260424T230445Z
URL:https://members.laportepartnership.com/events/details/family-history-program-at-la-porte-county-museum-2917
END:VEVENT

END:VCALENDAR
