BEGIN:VCALENDAR
VERSION:2.0
PRODID:-//ChamberMaster//Event Calendar 2.0//EN
METHOD:PUBLISH
X-PUBLISHED-TTL:P3D
REFRESH-INTERVAL:P3D
CALSCALE:GREGORIAN
BEGIN:VEVENT
DTSTART:20171014T150000Z
DTEND:20171014T190000Z
X-MICROSOFT-CDO-ALLDAYEVENT:FALSE
SUMMARY:Family Safety Day-General Insurance Services
DESCRIPTION:Join General Insurance Services and the Washington Twp. Volunteer Fire Department for a Family Safety Day on October 14 from 10:00-2:00pm. Family Safety Day offers free activities devoted to health and safety with a variety of hands-on learning activities and presentations. Activities include car seat checks\, home safety stations\, distracted driving simulations\, make-and-take first aid kits\, and more! Kankakee Valley REMC will also be bringing their High Voltage Demonstration.\n\n \n\nThe event is free to the public\, and will be held at the Washington Twp. Fire Station at 380 E. State Road 2\, Valparaiso. Follow the event on our Facebook page for all the latest information!
X-ALT-DESC;FMTTYPE=text/html:<div style="color: rgb(69\, 69\, 69)\; font-family: Arial\, Helvetica\, sans-serif\; font-size: 13.3333px\; background-color: rgb(255\, 255\, 255)\;">\n<div>Join General Insurance Services and the Washington Twp. Volunteer Fire Department for a Family Safety Day on October 14 from 10:00-2:00pm. Family Safety Day offers free activities devoted to health and safety with a variety of hands-on learning activities and presentations. Activities include car seat checks\, home safety stations\, distracted driving simulations\, make-and-take first aid kits\, and more! Kankakee Valley REMC will also be bringing their High Voltage Demonstration.</div>\n\n<div>&nbsp\;</div>\n\n<div>The event is free to the public\, and will be held at the Washington Twp. Fire Station at 380 E. State Road 2\, Valparaiso. Follow the event on our&nbsp\;<a _mce_href="https://www.facebook.com/GeneralInsuranceServices/?fref=ts" _mce_style="font-weight: bold\; color: #c24f13\; text-decoration: none\;" href="https://www.facebook.com/GeneralInsuranceServices/?fref=ts" linktype="1" style="font-weight: bold\; color: rgb(194\, 79\, 19) !important\; text-decoration-line: none !important\;" target="_blank" track="on">Facebook</a>&nbsp\;page for all the latest information!&nbsp\;</div>\n\n<div>&nbsp\;</div>\n</div>\n
LOCATION:Washington Twp. Fire Station 380 E. State Road 2 Valparaiso
UID:e.1949.2888
SEQUENCE:3
DTSTAMP:20260425T002605Z
URL:https://members.laportepartnership.com/events/details/family-safety-day-general-insurance-services-2888
END:VEVENT

END:VCALENDAR
