BEGIN:VCALENDAR
VERSION:2.0
PRODID:-//ChamberMaster//Event Calendar 2.0//EN
METHOD:PUBLISH
X-PUBLISHED-TTL:P3D
REFRESH-INTERVAL:P3D
CALSCALE:GREGORIAN
BEGIN:VEVENT
DTSTART:20180609T150000Z
DTEND:20180609T190000Z
X-MICROSOFT-CDO-ALLDAYEVENT:FALSE
SUMMARY:Family Safety Day with GIS
DESCRIPTION:Join General Insurance Services and the Center Township Volunteer Fire Department for a Family Safety Day on Saturday\, June 9 at Crichfield Elementary School. Food and Fun for the whole family!\n\n	Touch a Fire Truck\n	Make a First Aid Kit\n	Car Seat Installation Checks\n	Meet Sparky\, the Robotic Fire Dog\n	Fire Extinguisher Demonstrations\n	LifeFlight Helicopter Landing (pending weather)\n	La Porte County Sheriff's Dept K9 Demonstrations\n	La Porte County EMS Display\n	Children's Activities & Safety Stations
X-ALT-DESC;FMTTYPE=text/html:Join General Insurance Services and the Center Township Volunteer Fire Department for a Family Safety Day on Saturday\, June 9 at Crichfield Elementary School. Food and Fun for the whole family!\n<ul>\n	<li><span style="background:white\;"><span style="color:#1D2129\;">Touch a Fire Truck</span></span></li>\n	<li><span style="background:white\;"><span style="color:#1D2129\;">Make a First Aid Kit</span></span></li>\n	<li><span style="background:white\;"><span style="color:#1D2129\;">Car Seat Installation Checks</span></span></li>\n	<li><span style="background:white\;"><span style="color:#1D2129\;">Meet Sparky\, the Robotic Fire Dog</span></span></li>\n	<li><span style="background:white\;"><span style="color:#1D2129\;">Fire Extinguisher Demonstrations</span></span></li>\n	<li><span style="background:white\;"><span style="color:#1D2129\;">LifeFlight Helicopter Landing (pending weather)</span></span></li>\n	<li><span style="background:white\;"><span style="color:#1D2129\;">La Porte County Sheriff&#39\;s Dept K9 Demonstrations</span></span></li>\n	<li><span style="background:white\;"><span style="color:#1D2129\;">La Porte County EMS Display</span></span></li>\n	<li><span style="background:white\;"><span style="color:#1D2129\;">Children&#39\;s Activities &amp\; Safety Stations</span></span></li>\n</ul>\n
LOCATION:Crichfield Elementary School 336 W. Johnson Road La Porte
UID:e.1949.4172
SEQUENCE:3
DTSTAMP:20260424T084804Z
URL:https://members.laportepartnership.com/events/details/family-safety-day-with-gis-4172
END:VEVENT

END:VCALENDAR
