BEGIN:VCALENDAR
VERSION:2.0
PRODID:-//ChamberMaster//Event Calendar 2.0//EN
METHOD:PUBLISH
X-PUBLISHED-TTL:P3D
REFRESH-INTERVAL:P3D
CALSCALE:GREGORIAN
BEGIN:VEVENT
DTSTART:20180322T190000Z
DTEND:20180322T230000Z
X-MICROSOFT-CDO-ALLDAYEVENT:FALSE
SUMMARY:Fannie May Fundraising Event
DESCRIPTION:Join us at Fannie May for a sweet FUNdraising event!\n\nBring in the flyer in the link above\, shop at Fannie May chocolates for great gifts and tasty treats and 30% of the net proceeds will be donated to The Social & Learning Institute. The event will take place on March 22 from 2:00 p.m.-6:00 p.m. at Fannie May\, 102 W. Highway 20 in Michigan City.
X-ALT-DESC;FMTTYPE=text/html:Join us at Fannie May for a sweet FUNdraising event!<br />\nBring in the flyer in the link above\, shop at Fannie May chocolates for great gifts and tasty treats and 30% of the net proceeds will be donated to The Social &amp\; Learning Institute. The event will take place on March 22 from 2:00 p.m.-6:00 p.m. at Fannie May\, 102 W. Highway 20 in Michigan City.
LOCATION:Fannie May 102 W. Highway 20 Michigan City
UID:e.1949.3086
SEQUENCE:3
DTSTAMP:20260424T133943Z
URL:https://members.laportepartnership.com/events/details/fannie-may-fundraising-event-3086
END:VEVENT

END:VCALENDAR
