BEGIN:VCALENDAR
VERSION:2.0
PRODID:-//ChamberMaster//Event Calendar 2.0//EN
METHOD:PUBLISH
X-PUBLISHED-TTL:P3D
REFRESH-INTERVAL:P3D
CALSCALE:GREGORIAN
BEGIN:VEVENT
DTSTART:20160827T220000Z
DTEND:20160828T020000Z
X-MICROSOFT-CDO-ALLDAYEVENT:FALSE
SUMMARY:Farm Dinner Downtown- Spire Farm-to-Fork Cuisine
DESCRIPTION:Farm Dinner Downtown 2016\n\nFarm Dinner Downtown is back and is sure to please a crowd with unique\, local fare and delicious libations! Held on August 27\, 2016\, Farm Dinner Downtown promises to create a one of a kind dining experience in the middle of beautiful Downtown LaPorte\, IN. Food grown and raised exclusively in LaPorte County will be the feature of the evening\, not to mention beers from Backroad Brewery\, Shoreline Brewery\, and Twisted K8 Brewery. Enjoy musical performances from local artists! We are only releasing a limited number of tickets and they will go on sale July 1st\, so do not wait to secure your spot for this can't miss event!! Tickets will cost $30.\n\n\n\nOn Michigan Aveue in Downtown La Porte\n\n\n\nSaturday\, August 27\, 2016\n\n5 p.m.-9 p.m.\n\n\n\n-Local Craft Beer\n\n-Wine\n\n-Live Music\n\n\n\nBrought to you by Spire Farm-to-Fork Cuisine\, Thode Floral\, Sunkissed Organics\, and Barefoot Acres Farm
X-ALT-DESC;FMTTYPE=text/html:Farm Dinner Downtown 2016<br />\n<span style="color: rgb(119\, 119\, 119)\; font-family: Helvetica\, Arial\, sans-serif\; font-size: 12px\; line-height: normal\;">Farm Dinner Downtown is back and is sure to please a crowd with unique\, local fare and delicious libations! Held on August 27\, 2016\, Farm Dinner Downtown promises to create a one of a kind dining experience in the middle of beautiful Downtown LaPorte\, IN. Food grown and raised exclusively in LaPorte County will be the feature of the evening\, not to mention beers from Backroad Brewery\, Shoreline Brewery\, and Twisted K8 Brewery. Enjoy musical performances from local artists! We are only releasing a limited number of tickets and they will go on sale July 1st\, so do not wait to secure your spot for this can&#39\;t miss event!! Tickets will cost $30.</span><br />\n<br />\nOn Michigan Aveue in Downtown La Porte<br />\n<br />\nSaturday\, August 27\, 2016<br />\n5 p.m.-9 p.m.<br />\n<br />\n-Local Craft Beer<br />\n-Wine<br />\n-Live Music<br />\n<br />\nBrought to you by Spire Farm-to-Fork Cuisine\, Thode Floral\, Sunkissed Organics\, and Barefoot Acres Farm
LOCATION:On Michigan Avenue in Downtown La Porte
UID:e.1949.2604
SEQUENCE:3
DTSTAMP:20260426T004041Z
URL:https://members.laportepartnership.com/events/details/farm-dinner-downtown-spire-farm-to-fork-cuisine-08-27-2016-2604
END:VEVENT

END:VCALENDAR
