BEGIN:VCALENDAR
VERSION:2.0
PRODID:-//ChamberMaster//Event Calendar 2.0//EN
METHOD:PUBLISH
X-PUBLISHED-TTL:P3D
REFRESH-INTERVAL:P3D
CALSCALE:GREGORIAN
BEGIN:VEVENT
DTSTART:20171114T233000Z
DTEND:20171115T013000Z
X-MICROSOFT-CDO-ALLDAYEVENT:FALSE
SUMMARY:Farmers Market Vendor Workshop Series
DESCRIPTION:FARMERS MARKET VENDOR\n\nWORKSHOP SERIES\n\nDates and Topics\n\nNov. 14\n\nEstablishing Your Business\n\nDec. 12\n\nSetting Up at the Market\n\nJan. 9\n\nFood Safety and\n\nHome-Based Vendor Rules\n\nFeb. 13*\n\nLocal Health Department\n\nNetworking Night\n\nMarch 13\n\nMarketing\n\nWorkshops are on the Second Tuesday of each month from\n\nNovember 2017 through March 2018 from 5:30-7:30 p.m. CST\n\nLocation**\n\nFor a full list of locations see page 2\n\nAttendance at every workshop is not required but certificates\n\nwill be awarded to those who attended all workshops.\n\n*This date is subject to change based on host location\n\n**Please contact the host location you plan to attend for\n\nreasonable accommodations.\n\nPurdue University is an equal access/equal opportunity institution.
X-ALT-DESC;FMTTYPE=text/html:FARMERS MARKET VENDOR<br />\nWORKSHOP SERIES<br />\nDates and Topics<br />\nNov. 14<br />\nEstablishing Your Business<br />\nDec. 12<br />\nSetting Up at the Market<br />\nJan. 9<br />\nFood Safety and<br />\nHome-Based Vendor Rules<br />\nFeb. 13*<br />\nLocal Health Department<br />\nNetworking Night<br />\nMarch 13<br />\nMarketing<br />\nWorkshops are on the Second Tuesday of each month from<br />\nNovember 2017 through March 2018 from 5:30-7:30 p.m. CST<br />\nLocation**<br />\nFor a full list of locations see page 2<br />\nAttendance at every workshop is not required but certificates<br />\nwill be awarded to those who attended all workshops.<br />\n*This date is subject to change based on host location<br />\n**Please contact the host location you plan to attend for<br />\nreasonable accommodations.<br />\nPurdue University is an equal access/equal opportunity institution.
LOCATION:Purdue Extension- La Porte County 2857 W. State Road 2\, Suite A
UID:e.1949.2952
SEQUENCE:3
DTSTAMP:20260424T211404Z
URL:https://members.laportepartnership.com/events/details/farmers-market-vendor-workshop-series-2952
END:VEVENT

END:VCALENDAR
