BEGIN:VCALENDAR
VERSION:2.0
PRODID:-//ChamberMaster//Event Calendar 2.0//EN
METHOD:PUBLISH
X-PUBLISHED-TTL:P3D
REFRESH-INTERVAL:P3D
CALSCALE:GREGORIAN
BEGIN:VEVENT
DTSTART:20170923T140000Z
DTEND:20170923T210000Z
X-MICROSOFT-CDO-ALLDAYEVENT:FALSE
SUMMARY:FarmHop
DESCRIPTION:Join us for the first ever FarmHop on September 23rd\, 2017 9am-4pm Choose one of four tours from around the region for an in-depth look into the amazing work that goes on at family farms\, community gardens and local food projects in Northwest Indiana. Enjoy the fall foliage and seasonal changes from the view of a local farm. Hop on a bus full of farm enthusiasts and away you go!
X-ALT-DESC;FMTTYPE=text/html:Join us for the first ever FarmHop on September 23rd\, 2017 9am-4pm Choose one of four tours from around the region for an in-depth look into the amazing work that goes on at family farms\, community gardens and local food projects in Northwest Indiana. Enjoy the fall foliage and seasonal changes from the view of a local farm. Hop on a bus full of farm enthusiasts and away you go!
LOCATION:Northwest Indiana - Various Locations
UID:e.1949.2887
SEQUENCE:3
DTSTAMP:20260425T002158Z
URL:https://members.laportepartnership.com/events/details/farmhop-2887
END:VEVENT

END:VCALENDAR
