BEGIN:VCALENDAR
VERSION:2.0
PRODID:-//ChamberMaster//Event Calendar 2.0//EN
METHOD:PUBLISH
X-PUBLISHED-TTL:P3D
REFRESH-INTERVAL:P3D
CALSCALE:GREGORIAN
BEGIN:VEVENT
DTSTART:20170228T220000Z
DTEND:20170301T040000Z
X-MICROSOFT-CDO-ALLDAYEVENT:FALSE
SUMMARY:Fat Tuesday Tap Takeover at Bourbon Street Bistro
DESCRIPTION:Burn 'Em Brewing Fat Tuesday Tap Takeover at Bourbon Street Bistro\n\nCelebrate Fat Tuesday with great beer from Burn 'Em Brewing and authentic Louisiana-style cuisine.\n\n \n\nTell your friends and get here early!!\n\n\nThe beer starts flowing at 5:00 p.m. and we won't stop until all the beer is gone.\n\n\n\n#burnembrewing #bourbonstreetbistro #louisianacooking #laporte
X-ALT-DESC;FMTTYPE=text/html:<p style="margin: 0px\; padding: 0px\; color: rgb(102\, 106\, 115)\; font-family: &quot\;Benton Sans&quot\;\, &quot\;Helvetica Neue&quot\;\, Helvetica\, Roboto\, Arial\, sans-serif\; font-size: 15px\; letter-spacing: 0.5px\;"><span style="font-weight: 700\; padding-top: 0px\;">Burn &#39\;Em Brewing Fat Tuesday Tap Takeover at Bourbon Street Bistro</span></p>\n\n<p style="margin: 0px\; padding: 10px 0px 0px\; color: rgb(102\, 106\, 115)\; font-family: &quot\;Benton Sans&quot\;\, &quot\;Helvetica Neue&quot\;\, Helvetica\, Roboto\, Arial\, sans-serif\; font-size: 15px\; letter-spacing: 0.5px\;">Celebrate Fat Tuesday with great beer from Burn &#39\;Em Brewing and authentic Louisiana-style cuisine.<br style="padding-top: 0px\;" />\n&nbsp\;</p>\n\n<p style="margin: 0px\; padding: 10px 0px 0px\; color: rgb(102\, 106\, 115)\; font-family: &quot\;Benton Sans&quot\;\, &quot\;Helvetica Neue&quot\;\, Helvetica\, Roboto\, Arial\, sans-serif\; font-size: 15px\; letter-spacing: 0.5px\;">Tell your friends and get here early!!</p>\n\n<div class="text_exposed_show" style="margin: 0px\; padding: 0px\; color: rgb(69\, 73\, 78)\; font-family: &quot\;Benton Sans&quot\;\, &quot\;Helvetica Neue&quot\;\, Helvetica\, Roboto\, Arial\, sans-serif\; font-size: 15px\; letter-spacing: 0.5px\;">\n<p style="margin: 0px\; padding: 0px\; color: rgb(102\, 106\, 115)\;">The beer starts flowing at 5:00 p.m. and we won&#39\;t stop until all the beer is gone.<br style="padding-top: 0px\;" />\n<br />\n<a class="_58cn" href="https://www.facebook.com/hashtag/burnembrewing?source=feed_text&amp\;story_id=1017186591726956" rel="noopener noreferrer nofollow" style="color: rgb(2\, 120\, 184)\; text-decoration: none\;" target="_blank"><span class="_5afx" style="padding-top: 0px\;"><span class="_58cl _5afz" style="padding-top: 0px\;">#</span><span class="_58cm">burnembrewing</span></span></a>&nbsp\;<a class="_58cn" href="https://www.facebook.com/hashtag/bourbonstreetbistro?source=feed_text&amp\;story_id=1017186591726956" rel="noopener noreferrer nofollow" style="color: rgb(2\, 120\, 184)\; text-decoration: none\;" target="_blank"><span class="_5afx" style="padding-top: 0px\;"><span class="_58cl _5afz" style="padding-top: 0px\;">#</span><span class="_58cm">bourbonstreetbistro</span></span></a>&nbsp\;<span class="_5afx"><a class="_58cn" href="https://www.facebook.com/hashtag/louisianacooking?source=feed_text&amp\;story_id=1017186591726956" rel="noopener noreferrer nofollow" style="color: rgb(2\, 120\, 184)\; text-decoration: none\; padding-top: 0px\;" target="_blank"><span class="_58cl _5afz" style="padding-top: 0px\;">#</span><span class="_58cm">louisianacooking</span></a>&nbsp\;#laporte</span></p>\n\n<div>&nbsp\;</div>\n</div>\n
LOCATION:Bourbon Street Bistro 701 Lincolnway
UID:e.1949.2728
SEQUENCE:3
DTSTAMP:20260425T133734Z
URL:https://members.laportepartnership.com/events/details/fat-tuesday-tap-takeover-at-bourbon-street-bistro-2728
END:VEVENT

END:VCALENDAR
