BEGIN:VCALENDAR
VERSION:2.0
PRODID:-//ChamberMaster//Event Calendar 2.0//EN
METHOD:PUBLISH
X-PUBLISHED-TTL:P3D
REFRESH-INTERVAL:P3D
CALSCALE:GREGORIAN
BEGIN:VEVENT
DTSTART:20190616T140000Z
DTEND:20190616T220000Z
X-MICROSOFT-CDO-ALLDAYEVENT:FALSE
SUMMARY:Father's Day
DESCRIPTION:Enjoy a lovely Spring stroll or hike through the Gardens! Ring the bells\, bring a picnic...enjoy the sunshine! Dads admitted FREE!
X-ALT-DESC;FMTTYPE=text/html:<p><span style="background-color:transparent\; color:rgb(0\, 0\, 0)\; font-family:times new roman\; font-size:12pt">Enjoy a lovely Spring stroll or hike through the Gardens! Ring the bells\, bring a picnic...enjoy the sunshine! Dads admitted FREE!</span></p>\n
LOCATION:Friendship Botanic Gardens 2055 East US Highway 12 Michigan City\, IN 46360
UID:e.1949.4320
SEQUENCE:3
DTSTAMP:20260423T132915Z
URL:https://members.laportepartnership.com/events/details/father-s-day-4320
END:VEVENT

END:VCALENDAR
