BEGIN:VCALENDAR
VERSION:2.0
PRODID:-//ChamberMaster//Event Calendar 2.0//EN
METHOD:PUBLISH
X-PUBLISHED-TTL:P3D
REFRESH-INTERVAL:P3D
CALSCALE:GREGORIAN
BEGIN:VEVENT
DTSTART:20170216T230000Z
DTEND:20170217T000000Z
X-MICROSOFT-CDO-ALLDAYEVENT:FALSE
SUMMARY:February Idea & Information Exchange at Bourbon Street Bistro
DESCRIPTION:Hosted by\n\nVisit Michigan City LaPorte\n\nAnd\n\nBourbon Street Bistro\n\n701 Lincolnway\n\nLaPorte\, IN 46360\n\nThursday\, February 16\, 2016 at 5:00 PM\n\n \n\nNew Chef and owner\, John Moultrie is looking forward to connecting with the community and local businesses through functions such as the Idea and Information Exchange and to explain his new menu and the many events he has planned.\n\n \n\nThe Idea & Information Exchange forum was created for businesses and organizations to come together and share ideas and information.  As a result\, our partners have enjoyed financial benefits by cooperating with each other.\n\n \n\nWe look forward to hearing all about what is new with your business or organization. Bring brochures\, sales coupons\,and sales flyers to put on our information table to share with others.\n\n \n\nStaff will be on hand with their New Year updates and we will present the new Visitors Guide and Calendar of Events.\n\n \n\nLight hors d'oeuvres and soft drinks will be served with a cash bar.\n\n \n\nGifts\, Gifts\, Gifts!\n\nWe love gifts for our door awards!\n\nIf you wish to donate something\, please bring it along.\n\n \n\nPlease Join Us!\n\nRSVP to Jane Daley by February 14\, 2017\n\n219-872-5055 \n\nE-mail - jane@michigancitylaporte.com
X-ALT-DESC;FMTTYPE=text/html:&nbsp\;<span style="color:#4C0171\;"><span style="font-family:arial\,sans-serif\;"><span style="font-size:10.0pt\;">Hosted by</span></span></span><br />\n<span style="color:#4C0171\;"><span style="font-family:arial\,sans-serif\;"><span style="font-size:10.0pt\;">Visit Michigan City LaPorte</span></span></span><br />\n<span style="color:#4C0171\;"><span style="font-family:arial\,sans-serif\;"><span style="font-size:10.0pt\;">And</span></span></span><br />\n<span style="color:#4C0171\;"><span style="font-family:arial\,sans-serif\;"><span style="font-size:10.0pt\;">Bourbon Street Bistro</span></span></span><br />\n<span style="color:#4C0171\;"><span style="font-family:arial\,sans-serif\;"><span style="font-size:10.0pt\;">701 Lincolnway</span></span></span><br />\n<span style="color:#4C0171\;"><span style="font-family:arial\,sans-serif\;"><span style="font-size:10.0pt\;">LaPorte\, IN 46360</span></span></span><br />\n<span style="color:#4C0171\;"><span style="font-family:arial\,sans-serif\;"><span style="font-size:10.0pt\;">Thursday\, February 16\, 2016 at 5:00 PM</span></span></span><br />\n&nbsp\;<br />\n<span style="color:#4C0171\;"><span style="font-family:arial\,sans-serif\;"><span style="font-size:10.0pt\;">New Chef and owner\, John Moultrie is looking forward to connecting with the community and local businesses through functions such as the Idea and Information Exchange and to explain his new menu and the many events he has planned.</span></span></span><br />\n&nbsp\;<br />\n<span style="color:#4C0171\;"><span style="font-family:arial\,sans-serif\;"><span style="font-size:10.0pt\;">The Idea &amp\; Information Exchange forum was created for businesses and organizations to come together and share ideas and information.&nbsp\; As a result\, our partners have enjoyed financial benefits by cooperating with each other.</span></span></span><br />\n&nbsp\;<br />\n<span style="color:#4C0171\;"><span style="font-family:arial\,sans-serif\;"><span style="font-size:10.0pt\;">We look forward to hearing all about what is new with your business or organization. Bring brochures\, sales coupons\,and sales flyers to put on our information table to share with others.</span></span></span><br />\n&nbsp\;<br />\n<span style="color:#4C0171\;"><span style="font-family:arial\,sans-serif\;"><span style="font-size:10.0pt\;">Staff will be on hand with their New Year updates and we will present the new Visitors Guide and Calendar of Events.</span></span></span><br />\n&nbsp\;<br />\n<span style="color:#4C0171\;"><span style="font-family:arial\,sans-serif\;"><span style="font-size:10.0pt\;">Light hors d&#39\;oeuvres and soft drinks will be served with a cash bar.</span></span></span><br />\n&nbsp\;<br />\n<span style="color:#4C0171\;"><span style="font-family:arial\,sans-serif\;"><span style="font-size:10.0pt\;">Gifts\, Gifts\, Gifts!</span></span></span><br />\n<span style="color:#4C0171\;"><span style="font-family:arial\,sans-serif\;"><span style="font-size:10.0pt\;">We love gifts for our door awards!</span></span></span><br />\n<span style="color:#4C0171\;"><span style="font-family:arial\,sans-serif\;"><span style="font-size:10.0pt\;">If you wish to donate something\, please bring it along.</span></span></span><br />\n&nbsp\;<br />\n<span style="color:#4C0171\;"><span style="font-family:arial\,sans-serif\;"><span style="font-size:10.0pt\;">Please Join Us!</span></span></span><br />\n<span style="color:#4C0171\;"><span style="font-family:arial\,sans-serif\;"><span style="font-size:10.0pt\;">RSVP to Jane Daley by February 14\, 2017</span></span></span><br />\n<span style="color:#4C0171\;"><span style="font-family:arial\,sans-serif\;"><span style="font-size:10.0pt\;">219-872-5055 </span></span></span><br />\n<span style="color:#4C0171\;"><span style="font-family:arial\,sans-serif\;"><span style="font-size:10.0pt\;">E-mail - <a href="mailto:jane@michigancitylaporte.com" shape="rect">jane@michigancitylaporte.com</a>&nbsp\;</span></span></span>
LOCATION:Bourbon Street Bistro 701 Lincolnway La Porte
UID:e.1949.2720
SEQUENCE:3
DTSTAMP:20260425T133550Z
URL:https://members.laportepartnership.com/events/details/february-idea-information-exchange-at-bourbon-street-bistro-2720
END:VEVENT

END:VCALENDAR
