BEGIN:VCALENDAR
VERSION:2.0
PRODID:-//ChamberMaster//Event Calendar 2.0//EN
METHOD:PUBLISH
X-PUBLISHED-TTL:P3D
REFRESH-INTERVAL:P3D
CALSCALE:GREGORIAN
BEGIN:VEVENT
DTSTART:20181101T210000Z
DTEND:20181101T233000Z
X-MICROSOFT-CDO-ALLDAYEVENT:FALSE
SUMMARY:Fidelity National Title Insurance Business after Hours
DESCRIPTION:Join the Chamber at Fidelity National Title Insurance on November 1st for a Business after Hours to celebrate the makeover of Fidelity National Title Insurance's La Porte Office! Fidelity National Title Insurance will hold the event at their 113 Pine Lake Avenue location in La Porte. Refreshments and drinks will be available. Attendees can begin arriving at 4:00 p.m. and the event will last until 6:30 p.m.\n\n\n\nFidelity National Title takes pride in title and escrow services that meet customer demands for efficient and timely processing and quality products. To learn more about Fidelity National Title go to http://www.fntic.com or call their La Porte office at: 219.326.1160.
X-ALT-DESC;FMTTYPE=text/html:<div _mce_style="text-align: left\;" align="left" style="color: rgb(69\, 69\, 69)\; font-family: Arial\, Helvetica\, sans-serif\; font-size: 13.3333px\;"><span style="font-size:16px\;"><span style="font-family:arial\;">Join the Chamber at Fidelity National Title Insurance on November 1st for a Business after Hours to celebrate the makeover of Fidelity National Title Insurance&#39\;s La Porte Office! Fidelity National Title Insurance will hold the event at their 113 Pine Lake Avenue location in La Porte. Refreshments and drinks will be available. Attendees can begin arriving at 4:00 p.m. and the event will last until 6:30 p.m.<br />\n<br />\nFidelity National Title takes pride in title and escrow services that meet customer demands for efficient and timely processing and quality products. To learn more about Fidelity National Title go to http://www.fntic.com or call their La Porte office at: 219.326.1160.</span></span></div>\n
LOCATION:Fidelity National Title Insurance 113 Pine Lake Avenue La Porte
UID:e.1949.2691
SEQUENCE:3
DTSTAMP:20260424T023306Z
URL:https://members.laportepartnership.com/events/details/fidelity-national-title-insurance-business-after-hours-2691
END:VEVENT

END:VCALENDAR
