BEGIN:VCALENDAR
VERSION:2.0
PRODID:-//ChamberMaster//Event Calendar 2.0//EN
METHOD:PUBLISH
X-PUBLISHED-TTL:P3D
REFRESH-INTERVAL:P3D
CALSCALE:GREGORIAN
BEGIN:VEVENT
DTSTART:20200123T200000Z
DTEND:20200123T230000Z
X-MICROSOFT-CDO-ALLDAYEVENT:FALSE
SUMMARY:Fire & Ice: 2020
DESCRIPTION:Ice Sculpture -Magical pieces of art created before your very eyes!\n\nCity's Pure Ice and local artists create interactive ice art for the whole family.\n\nThank you to the City of La Porte\, American Licorice Co. and La Porte Seamless Gutters for your support!
X-ALT-DESC;FMTTYPE=text/html:<span style="color: rgb(51\, 51\, 51)\; font-family: sans-serif\, Arial\, Verdana\, &quot\;Trebuchet MS&quot\;\; font-size: 13px\; background-color: rgb(255\, 255\, 255)\;">Ice Sculpture -</span>Magical pieces of art created before your very eyes!<br />\nCity&#39\;s Pure Ice and local artists create interactive ice art for the whole family.<br />\nThank you to the City of La Porte\, American Licorice Co. and La Porte Seamless Gutters for your support!<br />\n&nbsp\;
LOCATION:Plaza 618 618 Lincolnway La Porte\, IN
UID:e.1949.4563
SEQUENCE:3
DTSTAMP:20260423T005409Z
URL:https://members.laportepartnership.com/events/details/fire-ice-2020-4563
END:VEVENT

END:VCALENDAR
