BEGIN:VCALENDAR
VERSION:2.0
PRODID:-//ChamberMaster//Event Calendar 2.0//EN
METHOD:PUBLISH
X-PUBLISHED-TTL:P3D
REFRESH-INTERVAL:P3D
CALSCALE:GREGORIAN
BEGIN:VEVENT
DTSTART:20181128T220000Z
DTEND:20181128T230000Z
X-MICROSOFT-CDO-ALLDAYEVENT:FALSE
SUMMARY:First Annual Business & Community Engagement Event
DESCRIPTION:LaPorte Community School Corporation will be hosting our first annual "Business and Community Engagement Event" on November 28 from 4-5pm in the Performing Arts Center.\n\n\n\nWe are excited to announce that Blair Milo\, Secretary of Career Connections and Talent\, and Ben Carter\, Indiana Department of Education's Director of Workforce and Innovation\, will be our guest speakers. Blair is deeply engaged in building a strong and dynamic 21st-century ready workforce in Indiana. Ben is leading the charge on Indiana's New Graduation Pathways. \n\nAfter their remarks\, La Porte Community School representatives will explain how our local business and community members can get involved in many different capacities to support Slicer students K-12 as they learn and demonstrate employability skills\, fulfill the new Indiana Pathway's Graduation requirements\, and prepare to meet the challenges of the 21st century.\n\n\n\nAs a local business and/or community stakeholder\, your involvement in educating and preparing our students is essential. Plan to attend and learn about our current economic conditions\, the new state requirements\, and how you can support our students and take an active role in making La Porte community stronger. \n\n\n\nIf you have any questions or would like some more information on the event please contact Matt Presley at mpresley@lpcsc.k12.in.us. We look forward to seeing you on the 28th!
X-ALT-DESC;FMTTYPE=text/html:<span style="font-family:helvetica\,sans-serif\;"><span style="font-size:10.0pt\;">LaPorte Community School Corporation will be hosting our first annual &quot\;Business and Community Engagement Event&quot\; on November 28 from 4-5pm in the Performing Arts Center.<br />\n<br />\nWe are excited to announce that Blair Milo\, Secretary of Career Connections and Talent\, and Ben Carter\, Indiana Department of Education&#39\;s Director of Workforce and Innovation\, will be our guest speakers. Blair is deeply engaged in building a strong and dynamic 21st-century ready workforce in Indiana. Ben is leading the charge on Indiana&#39\;s New Graduation Pathways.&nbsp\;</span></span><br />\n<span style="font-family:helvetica\,sans-serif\;"><span style="font-size:10.0pt\;">After their remarks\,&nbsp\;La Porte Community School representatives will explain how our local business and community members can get involved in many different capacities to support Slicer students K-12 as they learn and demonstrate employability skills\, fulfill the new Indiana Pathway&#39\;s Graduation requirements\, and prepare to meet the challenges of the 21st century.<br />\n<br />\nAs a local business and/or community&nbsp\;stakeholder\, your involvement in educating and preparing our students is essential. Plan to attend and learn about our current economic conditions\, the new state requirements\, and how you can support our students and take an active role in making La Porte community stronger.&nbsp\;<br />\n<br />\nIf you have any questions or would like some more information on the event please contact Matt Presley at mpresley@lpcsc.k12.in.us. We look forward to seeing you on the 28th!</span></span>
LOCATION:La Porte High School Performing Arts Center 602 F Street\, La Porte\, IN 46350
UID:e.1949.4268
SEQUENCE:3
DTSTAMP:20260424T130951Z
URL:https://members.laportepartnership.com/events/details/first-annual-business-community-engagement-event-4268
END:VEVENT

END:VCALENDAR
