BEGIN:VCALENDAR
VERSION:2.0
PRODID:-//ChamberMaster//Event Calendar 2.0//EN
METHOD:PUBLISH
X-PUBLISHED-TTL:P3D
REFRESH-INTERVAL:P3D
CALSCALE:GREGORIAN
BEGIN:VEVENT
DTSTART:20180117T223000Z
DTEND:20180118T013000Z
X-MICROSOFT-CDO-ALLDAYEVENT:FALSE
SUMMARY:First Pitch Banquet with the South Bend Cubs
DESCRIPTION:2018 South Bend Cubs Foundation\n\nFirst Pitch Banquet\n\n \n\nWednesday January 17\n\n \n\nChicago Cubs Bench Coach Brandon Hyde\n\nNotre Dame Softball Head Coach Deanna Gumpf\n\n \n\nEvent Starts at 6:30 PM\n\nDoor Open at 5:30 PM\n\n \n\nAdult Tickets: $40\n\nChildren (12 & Under): $20\n\n\n\nA ballpark-style dinner is included in the ticket price and seating is limited to 250 guests. First Pitch Banquet tickets can be purchased from 10:00a.m. - 5:00p.m. Monday thru Friday at the 1st Source Bank Performance Center. Tickets will also be available for purchase at the South Bend Cubs Main Office during regular business hours beginning January 2.
X-ALT-DESC;FMTTYPE=text/html:<em><span style="color:blue\;"><span style="font-family:georgia\,serif\;"><span style="font-size:27.0pt\;">2018 South Bend Cubs Foundation</span></span></span></em><br />\n<em><span style="color:blue\;"><span style="font-family:georgia\,serif\;"><span style="font-size:27.0pt\;">First Pitch Banquet</span></span></span></em><br />\n&nbsp\;<br />\n<em><span style="color:black\;"><span style="font-family:georgia\,serif\;"><span style="font-size:18.0pt\;">Wednesday January 17</span></span></span></em><br />\n&nbsp\;<br />\n<em><span style="color:black\;"><span style="font-family:georgia\,serif\;"><span style="font-size:18.0pt\;">Chicago Cubs Bench Coach Brandon Hyde</span></span></span></em><br />\n<em><span style="color:black\;"><span style="font-family:georgia\,serif\;"><span style="font-size:18.0pt\;">Notre Dame Softball Head Coach Deanna Gumpf</span></span></span></em><br />\n&nbsp\;<br />\n<em><span style="color:black\;"><span style="font-family:georgia\,serif\;"><span style="font-size:18.0pt\;">Event Starts at 6:30 PM</span></span></span></em><br />\n<em><span style="color:black\;"><span style="font-family:georgia\,serif\;"><span style="font-size:18.0pt\;">Door Open at 5:30 PM</span></span></span></em><br />\n&nbsp\;<br />\n<em><span style="color:black\;"><span style="font-family:georgia\,serif\;"><span style="font-size:18.0pt\;">Adult Tickets: $40</span></span></span></em><br />\n<em><span style="color:black\;"><span style="font-family:georgia\,serif\;"><span style="font-size:18.0pt\;">Children (12 &amp\; Under): $20</span><br />\n<br />\n<span style="font-size:12.0pt\;">A ballpark-style dinner is included in the ticket price and seating is limited to 250 guests.&nbsp\;First Pitch Banquet tickets can be purchased from&nbsp\;10:00a.m. - 5:00p.m. Monday thru Friday&nbsp\;at the 1st Source Bank Performance Center. Tickets&nbsp\;will also be available for purchase&nbsp\;at the South Bend Cubs Main Office during regular business hours beginning January 2.</span></span></span></em>
LOCATION:1st Source Bank Performance Center
UID:e.1949.2997
SEQUENCE:3
DTSTAMP:20260424T193511Z
URL:https://members.laportepartnership.com/events/details/first-pitch-banquet-with-the-south-bend-cubs-2997
END:VEVENT

END:VCALENDAR
