BEGIN:VCALENDAR
VERSION:2.0
PRODID:-//ChamberMaster//Event Calendar 2.0//EN
METHOD:PUBLISH
X-PUBLISHED-TTL:P3D
REFRESH-INTERVAL:P3D
CALSCALE:GREGORIAN
BEGIN:VEVENT
DTSTART:20180419T223000Z
DTEND:20180419T233000Z
X-MICROSOFT-CDO-ALLDAYEVENT:FALSE
SUMMARY:First Trust Credit Union presents a FREE homebuying seminar
DESCRIPTION:First Trust Credit Union's Valparaiso branch\, located at 1404 Lincolnway\, will be presenting a FREE homebuying seminar on Thursday\, April 19th\, 2018\, from 5:30-6:30 p.m. The presenters will be LaNell Payne\, Mortgage Consultant for First Trust Credit Union\, and a local Porter County realtor.  Light refreshments will be served\, with an opportunity to win a gift! Seating is limited\, and available on a first come\, first served basis.  Reservations can be made by calling 219-877-2323 or emailing lpayne@firsttrustcu.com.\n\n \n\nFirst Trust Credit Union provides a full line of products and services\, including accounts and loans for members in our community.
X-ALT-DESC;FMTTYPE=text/html:First Trust Credit Union&rsquo\;s Valparaiso branch\, located at 1404 Lincolnway\, will be presenting a FREE homebuying seminar on Thursday\, April 19<sup>th</sup>\, 2018\, from 5:30-6:30 p.m. The presenters will be LaNell Payne\, Mortgage Consultant for First Trust Credit Union\, and a local Porter County realtor.&nbsp\; Light refreshments will be served\, with an opportunity to win a gift! Seating is limited\, and available on a first come\, first served basis.&nbsp\; Reservations can be made by calling 219-877-2323 or emailing lpayne@firsttrustcu.com.<br />\n&nbsp\;<br />\nFirst Trust Credit Union provides a full line of products and services\, including accounts and loans for members in our community.
LOCATION:First Trust Credit Union 1404 Lincolnway Valparaiso
UID:e.1949.4093
SEQUENCE:3
DTSTAMP:20260424T115806Z
URL:https://members.laportepartnership.com/events/details/first-trust-credit-union-presents-a-free-homebuying-seminar-4093
END:VEVENT

END:VCALENDAR
