BEGIN:VCALENDAR
VERSION:2.0
PRODID:-//ChamberMaster//Event Calendar 2.0//EN
METHOD:PUBLISH
X-PUBLISHED-TTL:P3D
REFRESH-INTERVAL:P3D
CALSCALE:GREGORIAN
BEGIN:VEVENT
DTSTART:20180221T233000Z
DTEND:20180222T010000Z
X-MICROSOFT-CDO-ALLDAYEVENT:FALSE
SUMMARY:First Trust Credit Union presents “Financing Your Small Business”
DESCRIPTION:First Trust Credit Union's Michigan City branch will be presenting a FREE small business seminar on Wednesday\, February 21st\, 2018\, from 5:30-7:00 p.m. titled\, "Financing Your Small Business."  The presenters will be Laura Ewart of First Trust Credit Union and Lorri Feldt of the Indiana Small Business Development Center.  Some topics that will be covered include where you can go for financing\, and how to get started.  Light refreshments will be served. Seating is limited\, and is available on a first come\, first served basis.  Reservations can be made by calling 219-877-2328 or emailing lewart@firsttrustcu.com.\n\n \n\nFirst Trust Credit Union provides products and services\, including accounts and loans\, for businesses in our community.
X-ALT-DESC;FMTTYPE=text/html:First Trust Credit Union&rsquo\;s Michigan City branch will be presenting a FREE small business seminar on Wednesday\, February 21<sup>st</sup>\, 2018\, from 5:30-7:00 p.m. titled\, &ldquo\;<em>Financing Your Small Business</em>.&rdquo\;&nbsp\; The presenters will be Laura Ewart of First Trust Credit Union and Lorri Feldt of the Indiana Small Business Development Center.&nbsp\; Some topics that will be covered include where you can go for financing\, and how to get started.&nbsp\; Light refreshments will be served. Seating is limited\, and is available on a first come\, first served basis.&nbsp\; Reservations can be made by calling 219-877-2328 or emailing lewart@firsttrustcu.com.<br />\n&nbsp\;<br />\nFirst Trust Credit Union provides products and services\, including accounts and loans\, for businesses in our community.&nbsp\;
LOCATION:First Trust Credit Union 950 U.S. 20 Michigan City
UID:e.1949.3021
SEQUENCE:3
DTSTAMP:20260424T155102Z
URL:https://members.laportepartnership.com/events/details/first-trust-credit-union-presents-financing-your-small-business-3021
END:VEVENT

END:VCALENDAR
