BEGIN:VCALENDAR
VERSION:2.0
PRODID:-//ChamberMaster//Event Calendar 2.0//EN
METHOD:PUBLISH
X-PUBLISHED-TTL:P3D
REFRESH-INTERVAL:P3D
CALSCALE:GREGORIAN
BEGIN:VEVENT
DTSTART:20171010T223000Z
DTEND:20171011T000000Z
X-MICROSOFT-CDO-ALLDAYEVENT:FALSE
SUMMARY:First Trust Credit Union presents “Getting Connected: How to Effectively Market as a Small Business”
DESCRIPTION:First Trust Credit Union's Michigan City branch will be presenting a FREE small business workshop on Tuesday\, October 10\, 2017\, from 5:30-7:00 p.m. titled\, "Getting Connected: How to Effectively Market as a Small Business."  The presenters will be Drew Gesse\, Marketing Director of the Greater La Porte Chamber of Commerce\; John Marx\, President of JM2 Marketing\; and Kyle Hovanec\, Digital Marketing Specialist of JM2 Marketing.  Some topics that will be covered are:  what the local Chamber of Commerce can do for you\, marketing for your business\, social media marketing\, and search engine optimization for your business.  Light refreshments will be served. Seating is limited\, and is available on a first come first served basis.  Reservations can be made by calling 219-877-2328 or emailing lewart@firsttrustcu.com.
X-ALT-DESC;FMTTYPE=text/html:<span style="font-family:times new roman\,serif\;"><span style="font-size:12.0pt\;">First Trust Credit Union&rsquo\;s Michigan City branch will be presenting a FREE small business workshop on Tuesday\, October 10\, 2017\, from 5:30-7:00 p.m. titled\, &ldquo\;<em>Getting Connected: How to Effectively Market as a Small Business</em>.&rdquo\;&nbsp\; The presenters will be Drew Gesse\, Marketing Director of the Greater La Porte Chamber of Commerce\; John Marx\, President of JM2 Marketing\; and Kyle Hovanec\, Digital Marketing Specialist of JM2 Marketing.&nbsp\; Some topics that will be covered are:&nbsp\; what the local Chamber of Commerce can do for you\, marketing for your business\, social media marketing\, and search engine optimization for your business.&nbsp\; Light refreshments will be served. Seating is limited\, and is available on a first come first served basis.&nbsp\; Reservations can be made by calling 219-877-2328 or emailing lewart@firsttrustcu.com.</span></span>
LOCATION:First Trust Credit Union 950 East US Highway 20 Michigan City
UID:e.1949.2884
SEQUENCE:3
DTSTAMP:20260424T230823Z
URL:https://members.laportepartnership.com/events/details/first-trust-credit-union-presents-getting-connected-how-to-effectively-market-as-a-small-business-2884
END:VEVENT

END:VCALENDAR
