BEGIN:VCALENDAR
VERSION:2.0
PRODID:-//ChamberMaster//Event Calendar 2.0//EN
METHOD:PUBLISH
X-PUBLISHED-TTL:P3D
REFRESH-INTERVAL:P3D
CALSCALE:GREGORIAN
BEGIN:VEVENT
DTSTART:20180910T223000Z
DTEND:20180910T233000Z
X-MICROSOFT-CDO-ALLDAYEVENT:FALSE
SUMMARY:First Trust Credit Union Small Business Workshop
DESCRIPTION:Looking for ways to increase sales for your small business? If so\, please join First Trust Credit Union as they host a free small business workshop at their La Porte branch on Monday\, Sept. 10 from 5:30 p.m. to 6:30 p.m. This workshop will include a panel discussion with three area business leaders including: Kris Pate of United Way of LaPorte County\, Bryan McCarty of Blake Insurance and Kate McGowan of The News-Dispatch. RSVP by calling Laura Ewart at 219-877-2328 or email lewart@firsttrustcu.com.\n\n--- To learn more about First Trust Credit Union visit:https://www.firsttrustcu.com/.
X-ALT-DESC;FMTTYPE=text/html:<p style="margin: 0px 0px 6px\; font-family: Helvetica\, Arial\, sans-serif\; color: rgb(29\, 33\, 41)\; font-size: 14px\; font-style: normal\; font-variant-ligatures: normal\; font-variant-caps: normal\; font-weight: 400\; letter-spacing: normal\; orphans: 2\; text-align: start\; text-indent: 0px\; text-transform: none\; white-space: normal\; widows: 2\; word-spacing: 0px\; -webkit-text-stroke-width: 0px\; background-color: rgb(255\, 255\, 255)\; text-decoration-style: initial\; text-decoration-color: initial\;">Looking for ways to increase sales for your small business? If so\, please join<span>&nbsp\;</span><a class="profileLink" data-hovercard="/ajax/hovercard/page.php?id=332501873536833&amp\;extragetparams=%7B%22fref%22%3A%22mentions%22%7D" data-hovercard-prefer-more-content-show="1" href="https://www.facebook.com/pages/First-Trust-Credit-Union/332501873536833?fref=mentions&amp\;__xts__%5B0%5D=68.ARBdpYSaAlDwozETSWc9O9IQI7KYUc7XEOcD84ikiRHwQ99OpHJLLz1f0OhLowQvGqFYbOWo7OHJjHmYF4lgLN45VJKIwtLlClZ15dFsW9c4D-iZZN2kI2g6sgiDFhz56rYVFpBQSnRB8IZgr2Ct41e-9dVTkunZ23njjVccsjtRdyBdCQYSGA&amp\;__tn__=K-R" style="color: rgb(54\, 88\, 153)\; cursor: pointer\; text-decoration: none\; font-family: inherit\;">First Trust Credit Union</a><span>&nbsp\;</span>as they host a free small business workshop at their La Porte branch on Monday\, Sept. 10 from 5:30 p.m. to 6:30 p.m. This workshop will include a panel discussion with three area business leaders including: Kris Pate of<span>&nbsp\;</span><a class="profileLink" data-hovercard="/ajax/hovercard/page.php?id=178344588892348&amp\;extragetparams=%7B%22fref%22%3A%22mentions%22%7D" data-hovercard-prefer-more-content-show="1" href="https://www.facebook.com/unitedwaylpc/?fref=mentions&amp\;__xts__%5B0%5D=68.ARBdpYSaAlDwozETSWc9O9IQI7KYUc7XEOcD84ikiRHwQ99OpHJLLz1f0OhLowQvGqFYbOWo7OHJjHmYF4lgLN45VJKIwtLlClZ15dFsW9c4D-iZZN2kI2g6sgiDFhz56rYVFpBQSnRB8IZgr2Ct41e-9dVTkunZ23njjVccsjtRdyBdCQYSGA&amp\;__tn__=K-R" style="color: rgb(54\, 88\, 153)\; cursor: pointer\; text-decoration: none\; font-family: inherit\;">United Way of LaPorte County</a>\, Bryan McCarty of<span>&nbsp\;</span><a class="profileLink" data-hovercard="/ajax/hovercard/page.php?id=637892029572671&amp\;extragetparams=%7B%22fref%22%3A%22mentions%22%7D" data-hovercard-prefer-more-content-show="1" href="https://www.facebook.com/blakeins/?fref=mentions&amp\;__xts__%5B0%5D=68.ARBdpYSaAlDwozETSWc9O9IQI7KYUc7XEOcD84ikiRHwQ99OpHJLLz1f0OhLowQvGqFYbOWo7OHJjHmYF4lgLN45VJKIwtLlClZ15dFsW9c4D-iZZN2kI2g6sgiDFhz56rYVFpBQSnRB8IZgr2Ct41e-9dVTkunZ23njjVccsjtRdyBdCQYSGA&amp\;__tn__=K-R" style="color: rgb(54\, 88\, 153)\; cursor: pointer\; text-decoration: none\; font-family: inherit\;">Blake Insurance</a><span>&nbsp\;</span>and Kate McGowan of<span>&nbsp\;</span><a class="profileLink" data-hovercard="/ajax/hovercard/page.php?id=430459247049135&amp\;extragetparams=%7B%22fref%22%3A%22mentions%22%7D" data-hovercard-prefer-more-content-show="1" href="https://www.facebook.com/TheNewsDispatchMichiganCity/?fref=mentions&amp\;__xts__%5B0%5D=68.ARBdpYSaAlDwozETSWc9O9IQI7KYUc7XEOcD84ikiRHwQ99OpHJLLz1f0OhLowQvGqFYbOWo7OHJjHmYF4lgLN45VJKIwtLlClZ15dFsW9c4D-iZZN2kI2g6sgiDFhz56rYVFpBQSnRB8IZgr2Ct41e-9dVTkunZ23njjVccsjtRdyBdCQYSGA&amp\;__tn__=K-R" style="color: rgb(54\, 88\, 153)\; cursor: pointer\; text-decoration: none\; font-family: inherit\;">The News-Dispatch</a>. RSVP by calling Laura Ewart at 219-877-2328 or email lewart@firsttrustcu.com.</p>\n\n<p style="margin: 6px 0px 0px\; display: inline\; font-family: Helvetica\, Arial\, sans-serif\; color: rgb(29\, 33\, 41)\; font-size: 14px\; font-style: normal\; font-variant-ligatures: normal\; font-variant-caps: normal\; font-weight: 400\; letter-spacing: normal\; orphans: 2\; text-align: start\; text-indent: 0px\; text-transform: none\; white-space: normal\; widows: 2\; word-spacing: 0px\; -webkit-text-stroke-width: 0px\; background-color: rgb(255\, 255\, 255)\; text-decoration-style: initial\; text-decoration-color: initial\;">---&gt\;To learn more about First Trust Credit Union visit:<a data-ft="{&quot\;tn&quot\;:&quot\;-U&quot\;}" data-lynx-mode="async" data-lynx-uri="https://l.facebook.com/l.php?u=https%3A%2F%2Fwww.firsttrustcu.com%2F&amp\;h=AT3I0_aizmLonook34mB9iQl3CGf7rsOnkCeYPNxBEzS4XSGTI1lMahbkxcBQtV8TWzBcCjeuTltG5lX36hjFDU-cdHF0QYHMHTT-Lj2hkrao2ks63YfiEL3UO_uVqrpteGvifgRaln1T5Ve4V-IDt7xb7LfEVMSIeBo9V6RZZuaHQc7c1ThzcTuHFHxWSegssgXwONz_9Up0lPZ10i7s4TMfFvqzxhEevwzSS4AFn-oIDPSzICFXYccSW3GLpZqEpQdC8vvvsZL4yNQea5qeHjKbYRGj99sgro-2ZMF2t7CuRUpLetWpl4rXSFLkUry2Nw5GIoeZD1ZeQ2GUTK-Fkv1DFG1Nj1QHMiVk7_vuIv-FgHCNX2NH9tckcNDacyoyKdKV2ZajOCiFNedkB8YYuJ7pnSX" href="https://www.firsttrustcu.com/" rel="noopener nofollow" style="color: rgb(54\, 88\, 153)\; cursor: pointer\; text-decoration: none\; font-family: inherit\;" target="_blank">https://www.firsttrustcu.com/</a>.</p>\n
LOCATION:First Trust Credit Union 402 J. Street La Porte\, IN 46350
UID:e.1949.4249
SEQUENCE:3
DTSTAMP:20260424T054748Z
URL:https://members.laportepartnership.com/events/details/first-trust-credit-union-small-business-workshop-4249
END:VEVENT

END:VCALENDAR
