BEGIN:VCALENDAR
VERSION:2.0
PRODID:-//ChamberMaster//Event Calendar 2.0//EN
METHOD:PUBLISH
X-PUBLISHED-TTL:P3D
REFRESH-INTERVAL:P3D
CALSCALE:GREGORIAN
BEGIN:VEVENT
DTSTART:20180517T210000Z
DTEND:20180517T213000Z
X-MICROSOFT-CDO-ALLDAYEVENT:FALSE
SUMMARY:FirstLight Home Care Ribbon Cutting
DESCRIPTION:FirstLight Home Care has recently opened a new office in La Porte to better serve the people of La Porte County. The new office is located at the Swanson Activity Center for Older Adults\, 910 State Street in Downtown La Porte. To celebrate this new location\, the business will host a ribbon cutting on May 17 at 4:00 p.m. The ribbon cutting will be administered by the Greater La Porte Chamber of Commerce.\n\nFirstLight Home Care offers complete companion and personal care services for seniors\, new mothers\, those recovering from surgery\, or anyone who just needs a little assistance. With their trusted\, highly-trained caregivers and additional\, innovative services\, you'll have even greater peace-of-mind.\n\nTo learn more about FirstLight Home Care of Northwest Indiana\, go to their Facebook page or visit www.firstlighthomecare.com/home-healthcare-valparaiso. For more information about the Greater La Porte Chamber of Commerce\, visit www.lpchamber.com\, like their Facebook page\, or call 219.362.3178.
X-ALT-DESC;FMTTYPE=text/html:<span style="font-family:georgia\,serif\;"><span style="font-size:12.0pt\;">FirstLight Home Care has recently opened a new office in La Porte to better serve the people of La Porte County. The new office is located at the Swanson Activity Center for Older Adults\, 910 State Street in Downtown La Porte. To celebrate this new location\, the business will host a ribbon cutting on May 17 at 4:00 p.m. The ribbon cutting will be administered by the Greater La Porte Chamber of Commerce.</span></span><br />\n<span style="font-family:georgia\,serif\;"><span style="font-size:12.0pt\;">FirstLight Home Care offers complete companion and personal care services for seniors\, new mothers\, those recovering from surgery\, or anyone who just needs a little assistance. With their trusted\, highly-trained caregivers and additional\, innovative services\, you&rsquo\;ll have even greater peace-of-mind.</span></span><br />\n<span style="font-family:georgia\,serif\;"><span style="font-size:12.0pt\;">To learn more about FirstLight Home Care of Northwest Indiana\, go to their Facebook page or visit www.firstlighthomecare.com/home-healthcare-valparaiso. For more information about the Greater La Porte Chamber of Commerce\, visit www.lpchamber.com\, like their Facebook page\, or call 219.362.3178.</span></span>
LOCATION:910 State Street La Porte
UID:e.1949.4132
SEQUENCE:3
DTSTAMP:20260424T115410Z
URL:https://members.laportepartnership.com/events/details/firstlight-home-care-ribbon-cutting-4132
END:VEVENT

END:VCALENDAR
