BEGIN:VCALENDAR
VERSION:2.0
PRODID:-//ChamberMaster//Event Calendar 2.0//EN
METHOD:PUBLISH
X-PUBLISHED-TTL:P3D
REFRESH-INTERVAL:P3D
CALSCALE:GREGORIAN
BEGIN:VEVENT
DTSTART:20170307T170000Z
DTEND:20170308T040000Z
X-MICROSOFT-CDO-ALLDAYEVENT:FALSE
SUMMARY:Five Guys Community Fundraiser- Social and Learning Institute
DESCRIPTION:You're invitied to support The Social and Learning Institute at the Five Guys Community Fundraiser on Tuesday\, March 7 taking place from 11:00 a.m. to 10:00 p.m. Five Guys is located at 5226 Franklin Street in Michigan City and will donate 20% of fundraiser sales and an additional $1 for every milkshake. On this special day\, we will receive a donation for ever purchase made at the Michigan City Five Guys location- no coupon required! Simply notify the cashier you are attending the fundraiser and make sure "Fundraiser" is on the receipt for The Social and Learning Institute to receve credit for your purchases. Gift card purchases earn donations too! Since 1976\, The Social and Learning Institute has provided enrichment and skill development programs for intellectually disabled adults. For more information\, visit: www.socialandlearning.org
X-ALT-DESC;FMTTYPE=text/html:You&#39\;re invitied to support The Social and Learning Institute at the Five Guys Community Fundraiser on Tuesday\, March 7 taking place from 11:00 a.m. to 10:00 p.m. Five Guys is located at 5226 Franklin Street in Michigan City and will donate 20% of fundraiser sales and an additional $1 for every milkshake. On this special day\, we will receive a donation for ever purchase made at the Michigan City Five Guys location- no coupon required! Simply notify the cashier you are attending the fundraiser and make sure &quot\;Fundraiser&quot\; is on the receipt for The Social and Learning Institute to receve credit for your purchases. Gift card purchases earn donations too! Since 1976\, The Social and Learning Institute has provided enrichment and skill development programs for intellectually disabled adults. For more information\, visit: www.socialandlearning.org
LOCATION:Five Guys 5226 Franklin Street Michigan City
UID:e.1949.2742
SEQUENCE:3
DTSTAMP:20260425T133556Z
URL:https://members.laportepartnership.com/events/details/five-guys-community-fundraiser-social-and-learning-institute-2742
END:VEVENT

END:VCALENDAR
